BEGIN:VCALENDAR
VERSION:2.0
PRODID:-//ChamberMaster//Event Calendar 2.0//EN
METHOD:PUBLISH
X-PUBLISHED-TTL:P3D
REFRESH-INTERVAL:P3D
CALSCALE:GREGORIAN
BEGIN:VEVENT
DTSTART:20211001T130000Z
DTEND:20211001T140000Z
X-MICROSOFT-CDO-ALLDAYEVENT:FALSE
SUMMARY:Community Inspired Actions "Ribbon Cutting"
DESCRIPTION:Join the staff at Community Inspired Actions in celebrating the Grand Opening and Ribbon Cutting  of their Youth Center on Friday October 1\, 2021 beginning at 9:00am.  \n\n\n\nThe mission of Community Inspired Actions is to support our youth\, young adults and their families in maintaining healthy\, productive and successful lives\; by providing at -risk youth with the tools needed to build a better future. Our goal is to strengthen families and empower communities.\n\n\n\n \n\nEnjoy refreshments\, games and a door prize !
X-ALT-DESC;FMTTYPE=text/html:<br />\n<br />\n<span style="font-size:14px\;"><span style="font-family:arial\;"><span style="color: rgb(51\, 51\, 51)\; background-color: rgb(255\, 255\, 255)\;">Join the staff at Community Inspired Actions in celebrating the Grand Opening and Ribbon Cutting&nbsp\; of their Youth Center on Friday October 1\, 2021 beginning at 9:00am.&nbsp\;&nbsp\;</span><br />\n<br />\nThe mission of Community Inspired Actions is to support our youth\, young adults and their families in maintaining healthy\, productive and successful lives\; by providing at -risk youth with the tools needed to build a better future. Our goal is to strengthen families and empower communities.</span></span><br />\n<br />\n&nbsp\;<br />\n<span background-color:="" font-size:="" style="color: rgb(51\, 51\, 51)\; font-family: sans-serif\, Arial\, Verdana\, " trebuchet="">Enjoy refreshments\, games and a door prize !</span>
LOCATION:Community Inspired Actions 5 West Church St #201 Selbyville\, DE 19975
UID:e.2126.21983
SEQUENCE:3
DTSTAMP:20260424T120736Z
URL:http://business.thequietresorts.com/events/details/community-inspired-actions-ribbon-cutting-21983
END:VEVENT

END:VCALENDAR
