BEGIN:VCALENDAR
VERSION:2.0
PRODID:-//ChamberMaster//Event Calendar 2.0//EN
METHOD:PUBLISH
X-PUBLISHED-TTL:P3D
REFRESH-INTERVAL:P3D
CALSCALE:GREGORIAN
BEGIN:VEVENT
DTSTART:20220904T210000Z
DTEND:20220905T003000Z
X-MICROSOFT-CDO-ALLDAYEVENT:FALSE
SUMMARY:Community Inspired Actions 5th Annual Back to School Event
DESCRIPTION:On Sunday\, September 4\, 2022\, Community Inspired Actions will be having its 5th Annual Back-to- School/Labor Day Event. This event will be held at the Marvel Carriage Museum located in Georgetown\, DE.  During this annual community event\, they will have a bookbag and school supply giveaway along with\, arts and crafts\, entertainment\, community vendors\, face painting and FIREWORKS!\n\n\n\nAll proceeds will benefit Community Inspired Actions R.I.S.E (Resilient\, Independent\, Self-sufficient\, Empowered) program. Our R.I.S.E program provides informational and educational opportunities for youth that are currently in or aging out of the foster care system\, experiencing homelessness or that are at-risk.  These youth have access to skill building workshops\, training\, case management\, mentoring and much more! Our goal is to ensure that these youth have the best chance to living healthy\, safe\, productive\, and self-sufficient lives.\n\n\n\nPlease join Community Inspired Actions as they continue to make strides in changing the lives of our youth. Donations are greatly appreciated.\n\n\n\nAttached is the sponsorship form along with their budget sheet for the event.  Community Inspired Actions is an IRS-certified 501 (c) (3) nonprofit.  Donations may be tax deductible. (please consult a professional tax advisor).\n\n\n\nLet's make a difference in the lives of our youth today!\n\n\n\nSponsor Benefits and Form\n\nVendor Sign Up Form
X-ALT-DESC;FMTTYPE=text/html:On Sunday\, September 4\, 2022\, Community Inspired Actions will be having its 5th Annual Back-to- School/Labor Day Event. This event will be held at the Marvel Carriage Museum located in Georgetown\, DE.&nbsp\; During this annual community event\, they will have a bookbag and school supply giveaway along with\, arts and crafts\, entertainment\, community vendors\, face painting and FIREWORKS!<br />\n<br />\nAll proceeds will benefit Community Inspired Actions R.I.S.E (Resilient\, Independent\, Self-sufficient\, Empowered) program. Our R.I.S.E program provides informational and educational opportunities for youth that are currently in or aging out of the foster care system\, experiencing homelessness or that are at-risk.&nbsp\; These youth have access to skill building workshops\, training\, case management\, mentoring and much more! Our goal is to ensure that these youth have the best chance to living healthy\, safe\, productive\, and self-sufficient lives.<br />\n<br />\nPlease join Community Inspired Actions as they continue to make strides in changing the lives of our youth. Donations are greatly appreciated.<br />\n<br />\nAttached is the <a href="https://chambermaster.blob.core.windows.net/userfiles/UserFiles/chambers/2126/File/CIASponsorForm.EventBudget1.pdf">sponsorship</a> form along with their <a href="https://chambermaster.blob.core.windows.net/userfiles/UserFiles/chambers/2126/File/CIASponsorForm.EventBudget1.pdf">budget sheet</a> for the event.&nbsp\; Community Inspired Actions is an IRS-certified 501 (c) (3) nonprofit.&nbsp\; Donations may be tax deductible. (please consult a professional tax advisor).<br />\n<br />\n<strong><em>Let&#39\;s make a difference in the lives of our youth today!</em></strong><br />\n<br />\n<a href="https://chambermaster.blob.core.windows.net/userfiles/UserFiles/chambers/2126/File/CIASponsorForm.EventBudget1.pdf" style="color: rgb(7\, 130\, 193)\; font-family: sans-serif\, Arial\, Verdana\, &quot\;Trebuchet MS&quot\;\; font-size: 13px\;">Sponsor Benefits and Form</a><br style="color: rgb(51\, 51\, 51)\; font-family: sans-serif\, Arial\, Verdana\, &quot\;Trebuchet MS&quot\;\; font-size: 13px\;" />\n<a href="https://chambermaster.blob.core.windows.net/userfiles/UserFiles/chambers/2126/File/CIAVendorForm.docx" style="color: rgb(7\, 130\, 193)\; font-family: sans-serif\, Arial\, Verdana\, &quot\;Trebuchet MS&quot\;\; font-size: 13px\;">Vendor Sign Up Form</a><br />\n&nbsp\;
LOCATION:Marvel Carriage Museum 510 S. Bedford St. Georgetown\, DE 19947
UID:e.2126.24051
SEQUENCE:3
DTSTAMP:20260421T173121Z
URL:http://business.thequietresorts.com/events/details/community-inspired-actions-5th-annual-back-to-school-event-24051
END:VEVENT

END:VCALENDAR
