BEGIN:VCALENDAR
VERSION:2.0
PRODID:-//ChamberMaster//Event Calendar 2.0//EN
METHOD:PUBLISH
X-PUBLISHED-TTL:P3D
REFRESH-INTERVAL:P3D
CALSCALE:GREGORIAN
BEGIN:VEVENT
DTSTART:20240418T160000Z
DTEND:20240418T190000Z
X-MICROSOFT-CDO-ALLDAYEVENT:FALSE
SUMMARY:Coldwell Banker Realty - Career Day
DESCRIPTION:Are you interested in a career in real estate or wondering if Coldwell Banker is the office for you? Join us on Wednesday\, April 18th from 12 - 3 pm & see what Coldwell Banker can offer you. Coldwell Banker Realty has been helping clients buy & sell real estate for 117 years & has been voted most ethical company for 13 years in a row. Find out what makes us stand apart & why over 100\,000 agents choose to work with Coldwell Banker. Leave your business card or contact info to be entered in a gift card drawing.
X-ALT-DESC;FMTTYPE=text/html:Are you interested in a career in real estate or wondering if Coldwell Banker is the office for you? Join us on Wednesday\, April 18th from 12 - 3 pm &amp\; see what Coldwell Banker can offer you. Coldwell Banker Realty has been helping clients buy &amp\; sell real estate for 117 years &amp\; has been voted most ethical company for 13 years in a row. Find out what makes us stand apart &amp\; why over 100\,000 agents choose to work with Coldwell Banker. Leave your business card or contact info to be entered in a gift card drawing.
LOCATION:Coldwell Banker Realty 89 Atlantic Ave Ocean View\, DE 19970
UID:e.2126.28540
SEQUENCE:3
DTSTAMP:20260420T060654Z
URL:http://business.thequietresorts.com/events/details/coldwell-banker-realty-career-day-28540
END:VEVENT

END:VCALENDAR
