BEGIN:VCALENDAR
VERSION:2.0
PRODID:-//ChamberMaster//Event Calendar 2.0//EN
METHOD:PUBLISH
X-PUBLISHED-TTL:P3D
REFRESH-INTERVAL:P3D
CALSCALE:GREGORIAN
BEGIN:VEVENT
DTSTART:20200620T160000Z
DTEND:20200620T213000Z
X-MICROSOFT-CDO-ALLDAYEVENT:FALSE
SUMMARY:Coastal Towns Chicken Festival
DESCRIPTION:The Coastal Towns Historic Village and the Town of Ocean View is planning a county-wide event reminiscent of the Delmarva Chicken Festival\, a celebration of "everything chicken". Our historic village has an exact replica of Cecile Steele's first chicken house and all of the village buildings will be open for tours! There will be food (chicken!)\, games\, music\, prizes for special chicken related events\, educational displays\, and industry giveaways. Any questions or suggestions should be emailed to Carol Psaros at ckpsaros@aol.com.
X-ALT-DESC;FMTTYPE=text/html:<span style="font-family: arial\;"><span style="font-size: 14px\;">The Coastal Towns Historic Village and the Town of Ocean View is planning a county-wide event reminiscent of the Delmarva Chicken Festival\, a celebration of &quot\;everything chicken&quot\;. Our historic village has an exact replica of Cecile Steele&#39\;s first chicken house and all of the village buildings will be open for tours! There will be food (chicken!)\, games\, music\, prizes for special chicken related events\, educational displays\, and industry giveaways. Any questions or suggestions should be emailed to Carol Psaros at <a href="mailto:ckpsaros@aol.com">ckpsaros@aol.com</a>.</span></span>
LOCATION:John T. West Park 32 West Ave. Ocean View\, DE 19970
UID:e.2126.21498
SEQUENCE:3
DTSTAMP:20260425T194731Z
URL:http://business.thequietresorts.com/events/details/coastal-towns-chicken-festival-21498
END:VEVENT

END:VCALENDAR
