BEGIN:VCALENDAR
VERSION:2.0
PRODID:-//ChamberMaster//Event Calendar 2.0//EN
METHOD:PUBLISH
X-PUBLISHED-TTL:P3D
REFRESH-INTERVAL:P3D
CALSCALE:GREGORIAN
BEGIN:VEVENT
DTSTART:20210430T170000Z
DTEND:20210430T220000Z
X-MICROSOFT-CDO-ALLDAYEVENT:FALSE
SUMMARY:Coastal Resorts Golf Classic
DESCRIPTION:Join the Bank of Ocean City for the Coastal Resorts Golf Classic\, benefitting the Quiet Resorts Charitable Foundation and area non-profits\, on Friday\, April 30\, at the Plantation Lakes Golf & Country Club. The Coastal Resorts Golf Classic will kick off at 1:00 pm with a shotgun start.\n\n\n\nIf you are interested in becoming a sponsor or playing in the 2021 Coastal Resorts Golf Classic\, contact Rick Hundley at 703-447-5979 or rick@focusmultisports.com or contact Ernie Felici at 610-613-4425 or ernie@focusmultisports.com.\n\n\n\nEvery golfer will receive:\n\n	Golf cart\n	Practice balls\n	Golfer gift pack\n	Crush bar & beverage cart\n	Prizes\n	Awards\n	Lunch\n\n\n\nCompetitions:\n\n\n	Best Ball Scramble\n	Longest Drive Contest\n	Beat the Pro\n	Closest to the Pin\n	Straight Drive
X-ALT-DESC;FMTTYPE=text/html:<span style="font-family:arial\;"><span style="font-size:14px\;">Join the Bank of Ocean City for the Coastal Resorts Golf Classic\, benefitting the Quiet Resorts Charitable Foundation and area non-profits\, on Friday\, April 30\, at the Plantation Lakes Golf &amp\; Country Club. The Coastal Resorts Golf Classic will kick off at 1:00 pm with a shotgun start.<br />\n<br />\nIf you are interested in becoming a sponsor or playing in the 2021 Coastal Resorts Golf Classic\, contact Rick Hundley at 703-447-5979 or rick@focusmultisports.com or contact Ernie Felici at 610-613-4425 or ernie@focusmultisports.com.<br />\n<br />\n<strong>Every golfer will receive:</strong></span></span>\n<ul>\n	<li><span style="font-family:arial\;"><span style="font-size:14px\;">Golf cart</span></span></li>\n	<li><span style="font-family:arial\;"><span style="font-size:14px\;">Practice balls</span></span></li>\n	<li><span style="font-family:arial\;"><span style="font-size:14px\;">Golfer gift pack</span></span></li>\n	<li><span style="font-family:arial\;"><span style="font-size:14px\;">Crush bar &amp\; beverage cart</span></span></li>\n	<li><span style="font-family:arial\;"><span style="font-size:14px\;">Prizes</span></span></li>\n	<li><span style="font-family:arial\;"><span style="font-size:14px\;">Awards</span></span></li>\n	<li><span style="font-family:arial\;"><span style="font-size:14px\;">Lunch</span></span></li>\n</ul>\n<br />\n<span style="font-family:arial\;"><span style="font-size:14px\;"><strong>Competitions</strong><strong>:</strong></span></span>\n\n<ul>\n	<li><span style="font-family:arial\;"><span style="font-size:14px\;">Best Ball Scramble</span></span></li>\n	<li><span style="font-family:arial\;"><span style="font-size:14px\;">Longest Drive Contest</span></span></li>\n	<li><span style="font-family:arial\;"><span style="font-size:14px\;">Beat the Pro</span></span></li>\n	<li><span style="font-family:arial\;"><span style="font-size:14px\;">Closest to the Pin</span></span></li>\n	<li><span style="font-family:arial\;"><span style="font-size:14px\;">Straight Drive</span></span></li>\n</ul>\n<br />\n<br />\n<br />\n&nbsp\;
LOCATION:Plantation Lakes Golf & Country Club 20301 Charlotte Blvd Millsboro\, DE 19966
UID:e.2126.21878
SEQUENCE:3
DTSTAMP:20260424T222419Z
URL:http://business.thequietresorts.com/events/details/coastal-resorts-golf-classic-21878
END:VEVENT

END:VCALENDAR
