BEGIN:VCALENDAR
VERSION:2.0
PRODID:-//ChamberMaster//Event Calendar 2.0//EN
METHOD:PUBLISH
X-PUBLISHED-TTL:P3D
REFRESH-INTERVAL:P3D
CALSCALE:GREGORIAN
BEGIN:VEVENT
DTSTART:20240208T180000Z
DTEND:20240208T210000Z
X-MICROSOFT-CDO-ALLDAYEVENT:FALSE
SUMMARY:Coastal Point 20th Anniversary Celebration & Ribbon Cutting
DESCRIPTION:As a special thanks to all advertisers and readers\, help the Coastal Point celebrate their 20th anniversary at the Coastal Point Open House!  Join Coastal Point and the Bethany-Fenwick Area Chamber of Commerce on Thursday\, February 8th\, from 1:00PM - 4:00PM at the Coastal Point office in Ocean View.\n\n\n\nThe ribbon cutting will take place at 1:30PM!  Attend the ribbon cutting ceremony or pop in to meet the staff and talk to your favorite Pointies.  Light refreshments will be available!
X-ALT-DESC;FMTTYPE=text/html:As a special thanks to all advertisers and readers\, help the Coastal Point celebrate their 20th anniversary at the Coastal Point Open House!&nbsp\; Join Coastal Point and the Bethany-Fenwick Area Chamber of Commerce on Thursday\, February 8th\, from 1:00PM - 4:00PM at the Coastal Point office in Ocean View.<br />\n<br />\nThe ribbon cutting will take place at 1:30PM!&nbsp\; Attend the ribbon cutting ceremony or pop in to meet the staff and talk to your favorite Pointies.&nbsp\; Light refreshments will be available!&nbsp\;
LOCATION:Coastal Point 111 Atlantic Ave.\, Unit 5 Ocean View\, DE 19970
UID:e.2126.28232
SEQUENCE:3
DTSTAMP:20260420T093619Z
URL:http://business.thequietresorts.com/events/details/coastal-point-20th-anniversary-celebration-ribbon-cutting-28232
END:VEVENT

END:VCALENDAR
