BEGIN:VCALENDAR
VERSION:2.0
PRODID:-//ChamberMaster//Event Calendar 2.0//EN
METHOD:PUBLISH
X-PUBLISHED-TTL:P3D
REFRESH-INTERVAL:P3D
CALSCALE:GREGORIAN
BEGIN:VEVENT
DTSTART:20200228T000000Z
DTEND:20200228T010000Z
X-MICROSOFT-CDO-ALLDAYEVENT:FALSE
SUMMARY:Coastal Climate Conversations
DESCRIPTION:Join the conversation regarding Coastal Climate Conversations on Thursday February 27\, 2020 at South Coastal Library.\n\n\n\nTopics and Speakers include :\n\n\n\nIt's Real: What Are Our Local Risks? - Chris Bason\, Executive Director - Delaware Center For The Inland Bays\n\n\n\nIt's Bad: Scientific Evidence - Ted Spickler\, Retired CEO - Bayer Material Sciences\n\n\n\nIt's Actionable: What Can We Do? Lisa Locke\, Executive Director - Delaware Interfaith Power & Light
X-ALT-DESC;FMTTYPE=text/html:Join the conversation regarding&nbsp\;<strong>Coastal Climate Conversations</strong>&nbsp\;on Thursday February 27\, 2020 at South Coastal Library.<br />\n<br />\nTopics and Speakers include :<br />\n<br />\n<strong>It&#39\;s Real: What Are Our Local Risks? - Chris Bason\, Executive Director - Delaware Center For The Inland Bays<br />\n<br />\nIt&#39\;s Bad: Scientific Evidence - Ted Spickler\, Retired CEO - Bayer Material Sciences<br />\n<br />\nIt&#39\;s Actionable: What Can We Do? Lisa Locke\, Executive Director - Delaware Interfaith Power &amp\; Light</strong><br />\n&nbsp\;
LOCATION:South Coastal Library 43 Kent Avenue Bethany Beach\, DE 19930
UID:e.2126.20265
SEQUENCE:3
DTSTAMP:20260426T002959Z
URL:http://business.thequietresorts.com/events/details/coastal-climate-conversations-20265
END:VEVENT

END:VCALENDAR
