BEGIN:VCALENDAR
VERSION:2.0
PRODID:-//ChamberMaster//Event Calendar 2.0//EN
METHOD:PUBLISH
X-PUBLISHED-TTL:P3D
REFRESH-INTERVAL:P3D
CALSCALE:GREGORIAN
BEGIN:VEVENT
DTSTART;VALUE=DATE:20230601
DTEND;VALUE=DATE:20230701
TRANSP:TRANSPARENT
X-MICROSOFT-CDO-ALLDAYEVENT:TRUE
SUMMARY:Clay-A-Palooza
DESCRIPTION:Join the Art League of Ocean City and the Clay Guild of the Eastern Shore for a month-long celebration of ceramics at the OC Center for the Arts.\nCLASSES/ DEMOS\n\nSaturday\, June 17\n\n\n	\n	3-Day Raku Pottery Workshop\n\n	with Robert Johnson\n\n	June 3\, 4 and 17 from 12-3pm\n\n	Cost for 3-Day workshop: $200 Members\, $250 Non-Members (plus $25 Material Fee to be paid directly to instructor the first day of workshop)\n\n	Click here to register!\n	\n	\n	Decorate a Mug   Adult Pottery\n\n	with Patricia Rose\n\n	Sat. June 17\, 11am-12pm\n\n	Cost: $35 Members\, $44 Non-Members\n\n	Click here to register!\n	\n	\n	1 Day Raku Decorating & Firing Workshop\n\n	with Robert Johnson\n\n	Saturday\, June 17\, 1-3pm\n\n	Cost: $40 Members\, $50 Non-Members (plus $25 Material Fee to be paid directly to instructor for piece that you choose to decorate).\n\n	Click here to register!\n	\n	\n	Throwing Demonstration\n\n	with Ernie Satchell\n\n	Saturday\, June 17\, 1-3pm
X-ALT-DESC;FMTTYPE=text/html:<span style="color:rgb(62\, 62\, 62)\; font-family:source sans pro\,sans-serif\; font-size:15px">Join the Art League of Ocean City and the Clay Guild of the Eastern Shore for a month-long celebration of ceramics at the OC Center for the Arts.</span>\n<h4><span style="color:rgb(128\, 0\, 128)">CLASSES/ DEMOS</span><br />\n<strong>Saturday\, June 17</strong></h4>\n\n<ul>\n	<li>\n	<div><strong>3-Day Raku Pottery Workshop</strong></div>\n\n	<div>with Robert Johnson</div>\n\n	<div>June 3\, 4 and 17 from 12-3pm</div>\n\n	<div>Cost for 3-Day workshop: $200 Members\, $250 Non-Members (plus $25 Material Fee&nbsp\;to be paid directly to instructor the first day of workshop)</div>\n\n	<p><a href="https://canvas.artleagueofoceancity.org/classes/621" style="color: var(--tec-color-link-accent)\; box-sizing: border-box\; outline: none 0px\; text-decoration-line: none\; transition: all 0.2s ease 0s\; background: transparent\; -webkit-tap-highlight-color: rgba(0\, 0\, 0\, 0.3)\;">Click here to register!</a></p>\n	</li>\n	<li>\n	<div><strong>Decorate a Mug &ndash\; Adult Pottery</strong></div>\n\n	<div>with Patricia Rose</div>\n\n	<div>Sat. June 17\, 11am-12pm</div>\n\n	<div>Cost: $35 Members\, $44 Non-Members</div>\n\n	<p><a href="https://canvas.artleagueofoceancity.org/classes/727" style="color: var(--tec-color-link-accent)\; box-sizing: border-box\; outline: none 0px\; text-decoration-line: none\; transition: all 0.2s ease 0s\; background: transparent\; -webkit-tap-highlight-color: rgba(0\, 0\, 0\, 0.3)\;">Click here to register!</a></p>\n	</li>\n	<li>\n	<div><strong>1 Day Raku Decorating &amp\; Firing Workshop</strong></div>\n\n	<div>with Robert Johnson</div>\n\n	<div>Saturday\, June 17\, 1-3pm</div>\n\n	<div>Cost: $40 Members\, $50 Non-Members (plus $25 Material Fee&nbsp\;to be paid directly to instructor for piece that you choose to decorate).</div>\n\n	<p><a href="https://canvas.artleagueofoceancity.org/classes/622" style="color: var(--tec-color-link-accent)\; box-sizing: border-box\; outline: none 0px\; text-decoration-line: none\; transition: all 0.2s ease 0s\; background: transparent\; -webkit-tap-highlight-color: rgba(0\, 0\, 0\, 0.3)\;">Click here to register!</a></p>\n	</li>\n	<li>\n	<div><strong>Throwing Demonstration</strong></div>\n\n	<div>with Ernie Satchell</div>\n\n	<div>Saturday\, June 17\, 1-3pm</div>\n	</li>\n</ul>\n
LOCATION:Art League of Ocean City 502 94th Street OCMD 21842
UID:e.2126.25911
SEQUENCE:3
DTSTAMP:20260421T004637Z
URL:http://business.thequietresorts.com/events/details/clay-a-palooza-25911
END:VEVENT

END:VCALENDAR
