BEGIN:VCALENDAR
VERSION:2.0
PRODID:-//ChamberMaster//Event Calendar 2.0//EN
METHOD:PUBLISH
X-PUBLISHED-TTL:P3D
REFRESH-INTERVAL:P3D
CALSCALE:GREGORIAN
BEGIN:VEVENT
DTSTART:20240607T210000Z
DTEND:20240629T200000Z
X-MICROSOFT-CDO-ALLDAYEVENT:FALSE
SUMMARY:Clay-A-Palooza 2024 at Art League of OC
DESCRIPTION:Join the Art League of Ocean City and the Clay Guild of the Eastern Shore for a month-long celebration of ceramics at the OC Center for the Arts.\n\nCERAMICS SHOWCASE IN STUDIO E\n\nJune\, 2024\n\n\n	Shop handcrafted pottery showcased in Studio E. Featuring members of the Clay Guild of the Eastern Shore.\n	Plus: a one-of-a-kind collaborative outdoor sculpture on display.\n\n\nOPENING RECEPTION/ VENDOR MARKETPLACE\n\nFriday June 7\, 5-7pm\n\n\n	Meet the artists\, enjoy complimentary refreshments\, and shop a one-night-only vendor marketplace.\n\n\nCLASSES/ DEMOS\n\nSaturday\, June 15\n\n\n	\n	Wheel & Handbuilding Class\n\n	with Patricia Rose\n\n	Sat. June 15\, 11:00 AM   1:00 PM\n\n	Cost: $35 Members\, $44 Non-Members\n\n	Click here to register!\n	\n	\n	\n	Raku Decorating & Firing Workshop\n	\n\n	with Robert Johnson\n\n	Sat. June 15\, 1:30 PM   5:30 PM\n\n	Cost: $40 Members\, $50 Non-Members Plus $25 Material Fee to be paid directly to instructor for piece that you choose to decorate\n\n	Click here to register!\n	\n	\n	Pottery Demonstration\n\n	with Ernie Satchell\, Sarah Halcott\, and Patricia Rose\n\n	Saturday\, June 15\, 2-4pm
X-ALT-DESC;FMTTYPE=text/html:<p>Join the Art League of Ocean City and the&nbsp\;<span style="color:rgb(0\, 0\, 255)"><a href="http://www.clayguildeasternshore.com/" rel="noopener" style="box-sizing: border-box\; outline: none 0px\; color: rgb(0\, 0\, 255)\; text-decoration-line: none\; transition: all 0.2s ease 0s\; background: transparent\; -webkit-tap-highlight-color: rgba(0\, 0\, 0\, 0.3)\;" target="_blank">Clay Guild of the Eastern Shore</a></span>&nbsp\;for a month-long celebration of ceramics at the OC Center for the Arts.</p>\n\n<h4><strong>CERAMICS SHOWCASE IN STUDIO E</strong><br />\n<strong>June\, 2024</strong></h4>\n\n<ul>\n	<li>Shop&nbsp\;<strong>handcrafted pottery</strong>&nbsp\;showcased in Studio E. Featuring members of the Clay Guild of the Eastern Shore.</li>\n	<li>Plus: a one-of-a-kind collaborative&nbsp\;<strong>outdoor sculpture</strong>&nbsp\;on display.</li>\n</ul>\n\n<h4><strong>OPENING RECEPTION/ VENDOR MARKETPLACE</strong><br />\n<strong>Friday June 7\, 5-7pm</strong></h4>\n\n<ul>\n	<li>Meet the artists\, enjoy complimentary refreshments\, and shop a&nbsp\;<strong>one-night-only vendor marketplace.</strong></li>\n</ul>\n\n<h4><strong>CLASSES/ DEMOS</strong><br />\n<strong>Saturday\, June 15</strong></h4>\n\n<ul>\n	<li>\n	<div><strong>Wheel &amp\; Handbuilding Class</strong></div>\n\n	<div>with Patricia Rose</div>\n\n	<div>Sat. June 15\, 11:00 AM &ndash\; 1:00 PM</div>\n\n	<div>Cost: $35 Members\, $44 Non-Members</div>\n\n	<p><span style="color:rgb(0\, 0\, 255)"><a href="https://canvas.artleagueofoceancity.org/classes/1546" style="box-sizing: border-box\; outline: none 0px\; color: rgb(0\, 0\, 255)\; text-decoration-line: none\; transition: all 0.2s ease 0s\; background: transparent\; -webkit-tap-highlight-color: rgba(0\, 0\, 0\, 0.3)\;">Click here to register!</a></span></p>\n	</li>\n	<li>\n	<div>\n	<p><strong>Raku Decorating &amp\; Firing Workshop</strong></p>\n	</div>\n\n	<div>with Robert Johnson</div>\n\n	<div>Sat. June 15\, 1:30 PM &ndash\; 5:30 PM</div>\n\n	<div>Cost: $40 Members\, $50 Non-Members Plus $25 Material Fee to be paid directly to instructor for piece that you choose to decorate</div>\n\n	<p><span style="color:rgb(0\, 0\, 255)"><a href="https://canvas.artleagueofoceancity.org/classes/1495" style="box-sizing: border-box\; outline: none 0px\; color: rgb(0\, 0\, 255)\; text-decoration-line: none\; transition: all 0.2s ease 0s\; background: transparent\; -webkit-tap-highlight-color: rgba(0\, 0\, 0\, 0.3)\;">Click here to register!</a></span></p>\n	</li>\n	<li>\n	<div><strong>Pottery Demonstration</strong></div>\n\n	<div>with Ernie Satchell\, Sarah Halcott\, and Patricia Rose</div>\n\n	<div>Saturday\, June 15\, 2-4pm</div>\n	</li>\n</ul>\n
LOCATION:The Art League of Ocean City 502 94th St. Ocean City\, MD 21842
UID:e.2126.30087
SEQUENCE:3
DTSTAMP:20260420T091621Z
URL:http://business.thequietresorts.com/events/details/clay-a-palooza-2024-at-art-league-of-oc-30087
END:VEVENT

END:VCALENDAR
