BEGIN:VCALENDAR
VERSION:2.0
PRODID:-//ChamberMaster//Event Calendar 2.0//EN
METHOD:PUBLISH
X-PUBLISHED-TTL:P3D
REFRESH-INTERVAL:P3D
CALSCALE:GREGORIAN
BEGIN:VEVENT
DTSTART:20230729T230000Z
DTEND:20230730T020000Z
X-MICROSOFT-CDO-ALLDAYEVENT:FALSE
SUMMARY:Classic Albums Live: Aretha's Gold
DESCRIPTION:TICKETS ARE $25\, CHILDREN 12 AND UNDER ARE FREE\n\nFounded in 2003 by Craig Martin\, Classic Albums Live takes the greatest albums and recreates them live on stage   note for note\, cut for cut\, using the best musicians. "Think of it as a recital\," says Martin\, "these albums are historic and stand the test of time." Forgoing costumes and impersonations\, Classic Albums Live has found success in concentrating solely on the music. "We don't dress up or wear any sort of costume. We just stand there and play. All of our energy is put into the music. We want the performance to sound exactly like the album\," says Martin.\n\nThe musicians go to great lengths to faithfully recreate every sound on the original album exactly as you remember hearing them ... note for note\, cut for cut. They have performed with orchestras\, sitarists\, choirs and schools. The shows are treated like recitals with the album being performed in its entirety followed by a 'greatest hits' set of the featured artist.
X-ALT-DESC;FMTTYPE=text/html:<h6>TICKETS ARE $25\, CHILDREN 12 AND UNDER ARE FREE</h6>\n\n<p>Founded in 2003 by Craig Martin\, Classic Albums Live takes the greatest albums and recreates them live on stage &mdash\; note for note\, cut for cut\, using the best musicians. &ldquo\;Think of it as a recital\,&rdquo\; says Martin\, &ldquo\;these albums are historic and stand the test of time.&rdquo\; Forgoing costumes and impersonations\, Classic Albums Live has found success in concentrating solely on the music. &ldquo\;We don&rsquo\;t dress up or wear any sort of costume. We just stand there and play. All of our energy is put into the music. We want the performance to sound exactly like the album\,&rdquo\; says Martin.</p>\n\n<p>The musicians go to great lengths to faithfully recreate every sound on the original album exactly as you remember hearing them ... note for note\, cut for cut. They have performed with orchestras\, sitarists\, choirs and schools. The shows are treated like recitals with the album being performed in its entirety followed by a &#39\;greatest hits&#39\; set of the featured artist.</p>\n
LOCATION:Freeman Arts Pavilion a program of the Joshua M. Freeman Foundation is a champion of the arts on Delmarva\, providing diverse arts performances as well as arts access programs for local schools and the community at large. From June-September the Freeman Arts Pavilion is an open-air performance space showcasing music\, dance\, comedy\, theater\, children's programs\, and free events.
UID:e.2126.26111
SEQUENCE:3
DTSTAMP:20260420T233419Z
URL:http://business.thequietresorts.com/events/details/classic-albums-live-aretha-s-gold-26111
END:VEVENT

END:VCALENDAR
