BEGIN:VCALENDAR
VERSION:2.0
PRODID:-//ChamberMaster//Event Calendar 2.0//EN
METHOD:PUBLISH
X-PUBLISHED-TTL:P3D
REFRESH-INTERVAL:P3D
CALSCALE:GREGORIAN
BEGIN:VEVENT
DTSTART:20230301T000000Z
DTEND:20230301T020000Z
X-MICROSOFT-CDO-ALLDAYEVENT:FALSE
SUMMARY:Cinem'Avventura at the Dickens
DESCRIPTION:The Dickens Parlour Theatre and Cinem'Avventura present Vittorio De Sica's 1948 Italian masterpiece classic: "Ladri di Biciclette (Bicycle Thieves)" for an evening at the Art House Cinema: A cinematic adventure that transcends time and place. Cinem'Avventura is a Social Event that Explores and Celebrates Essential Art House Italian and World Cinema\, Local Artists\, Food\, and Music. \n\n \n\nMake your reservation for an Italian themed experience featuring music from the Italian cinema\, and local artists showcasing their work. Cinem'Avventura Director and Host\, Dante Silicato (Film Historian and Cin aste) will present an exploration of Post-War Italian Neorealism Cinema as he introduces the feature film of the evening. Dante will highlight the historical background\, artistic techniques\, and social significance of De Sica's "Bicycle Thieves" (1948) before the film\, followed by a discussion and reflection of the film in the dining room after the film. \n\n \n\nWe will offer a special three-course themed Italian Dinner along with our regular menu options beginning at 5 PM. Book your dinner reservation Here. \n\n \n\nBicycle Thieves\n\n-"Hailed around the world as one of the greatest movies ever made\, the Academy Award winning Bicycle Thieves\, directed by Vittorio De Sica\, defined an era in cinema. In poverty-stricken postwar Rome\, a man is on his first day of a new job that offers hope of salvation for his desperate family when his bicycle\, which he needs for work\, is stolen. With his young son in tow\, he sets off to track down the thief. Simple in construction and profoundly rich in human insight\, Bicycle Thieves embodies the greatest strengths of the Italian neorealist movement: emotional clarity\, social rectitude\, and brutal honesty."\n\n \n\nFILM INFO\n\n\n	Italy\n	1948\n	89 minutes\n	Black & White\n	1.37:1\n	Italian w/ English Subtitles
X-ALT-DESC;FMTTYPE=text/html:<p>The Dickens Parlour Theatre and Cinem&rsquo\;Avventura present Vittorio De Sica&rsquo\;s 1948 Italian masterpiece classic: &ldquo\;Ladri di Biciclette (Bicycle Thieves)&rdquo\; for an evening at the Art House Cinema: A cinematic adventure that transcends time and place. Cinem&rsquo\;Avventura is a Social Event that Explores and Celebrates Essential Art House Italian and World Cinema\, Local Artists\, Food\, and Music.&nbsp\;</p>\n\n<p>&nbsp\;</p>\n\n<p>Make your reservation for an Italian themed experience featuring music from the Italian cinema\, and local artists showcasing their work. Cinem&rsquo\;Avventura Director and Host\, Dante Silicato (Film Historian and Cin&eacute\;aste) will present an exploration of Post-War Italian Neorealism Cinema as he introduces the feature film of the evening. Dante will highlight the historical background\, artistic techniques\, and social significance of De Sica&rsquo\;s &ldquo\;Bicycle Thieves&rdquo\; (1948) before the film\, followed by a discussion and reflection of the film in the dining room after the film.&nbsp\;</p>\n\n<p>&nbsp\;</p>\n\n<h3><span style="color:rgb(230\, 0\, 0)">We will offer a special three-course themed Italian Dinner along with our regular menu options beginning at 5 PM. Book your dinner reservation <a href="https://www.exploretock.com/dickens-parlour-dining?tock_source=tock&amp\;tock_medium=search_nav">Here.</a>&nbsp\;</span></h3>\n\n<p>&nbsp\;</p>\n\n<p><em>Bicycle Thieves</em></p>\n\n<p>-&ldquo\;Hailed around the world as one of the greatest movies ever made\, the Academy Award&ndash\;winning Bicycle Thieves\, directed by Vittorio De Sica\, defined an era in cinema. In poverty-stricken postwar Rome\, a man is on his first day of a new job that offers hope of salvation for his desperate family when his bicycle\, which he needs for work\, is stolen. With his young son in tow\, he sets off to track down the thief. Simple in construction and profoundly rich in human insight\, Bicycle Thieves embodies the greatest strengths of the Italian neorealist movement: emotional clarity\, social rectitude\, and brutal honesty.&rdquo\;</p>\n\n<p>&nbsp\;</p>\n\n<p>FILM INFO</p>\n\n<ul>\n	<li>Italy</li>\n	<li>1948</li>\n	<li>89 minutes</li>\n	<li>Black &amp\; White</li>\n	<li>1.37:1</li>\n	<li>Italian w/ English Subtitles&nbsp\;</li>\n</ul>\n\n<p>&nbsp\;</p>\n
LOCATION:Dickens Parlour Theatre 31810 Good Earth Lane Ocean View\, DE 19970
UID:e.2126.25162
SEQUENCE:3
DTSTAMP:20260421T073944Z
URL:http://business.thequietresorts.com/events/details/cinem-avventura-at-the-dickens-25162
END:VEVENT

END:VCALENDAR
