BEGIN:VCALENDAR
VERSION:2.0
PRODID:-//ChamberMaster//Event Calendar 2.0//EN
METHOD:PUBLISH
X-PUBLISHED-TTL:P3D
REFRESH-INTERVAL:P3D
CALSCALE:GREGORIAN
BEGIN:VEVENT
DTSTART:20210430T150000Z
DTEND:20210506T020000Z
X-MICROSOFT-CDO-ALLDAYEVENT:FALSE
SUMMARY:Cinco de Mayo - Let's Party at The Salted Rim
DESCRIPTION:Cinco de Mayo \n\nat\n\nThe Salted Rim Margarita Bar & Grille\n\nALL DAY & NIGHT - Come Join the Party\n\nFriday - Sunday   April 30 - May 2\n\nAND\n\nWednesday   May 5\n\n\n\nDining is on a first come\, first serve walk-in basis only.\n\n\n\n\nFood Specials (Dine-in Only)\n\n\n	$4.00    Chicken or Beef Tacos (ea)\n	$5.00    Fish or Shrimp Tacos (ea)\n	$5.00    Mini Nachos Grande\n	$8.00    Mini Tuna Nachos\n	$7.00    Carne Asada Tacos\n	$8.00    Mexican Street Corn\n	$9.00    Empanadas\n	$15.00   ALL Fajitas\n\n Drink Specials\n\n\n	$4.00 Mexican Bottled Beers\n	$5.00 Mexican Drafts\n	$6.00 Margaritas (house non-frozen)\n	$6.00 Crushes\n	$3.00 Fireball\n	$1.00 Jello Shots\n\n\nEntertainment:\n\n\n\nFriday - DJ Rupe   8-11pm\n\n\n\nSaturday - DJ Rupe   1pm-6pm\n\n                  DJ Pat    6pm-11pm\n\n\n\nSunday - Taylor Knox   2-5pm\n\n\n\nWednesday - DJ Pat    5pm-9pm
X-ALT-DESC;FMTTYPE=text/html:<div style="text-align:center"><em><span style="font-family:arial"><strong><span style="color:#FF0000"><span style="font-size:18.0pt">Cinco de Mayo </span></span><br />\n<span style="font-size:18px"><span style="color:#000000">at<br />\nThe Salted Rim Margarita Bar &amp\; Grille</span></span></strong></span></em></div>\n\n<div style="text-align:center"><span style="font-size:14px"><span style="font-family:arial"><span style="color:#00FF00"><strong>ALL DAY &amp\; NIGHT -&nbsp\;Come Join the Party</strong></span></span></span></div>\n\n<div style="text-align:center"><span style="font-size:16px"><span style="font-family:arial"><span style="color:#FFA500"><strong>Friday - Sunday &bull\; April 30 - May 2<br />\n<span style="font-size:14px">AND</span><br />\nWednesday &bull\; May 5</strong></span></span></span></div>\n\n<div style="text-align: center\;"><br />\n<span style="font-size:16px"><span style="font-size:12px">Dining is on a first come\, first serve walk-in basis only.</span></span></div>\n<br />\n<br />\n<span style="font-family:arial"><strong><span style="color:black"><span style="font-size:14.0pt">Food Specials<span style="font-size:12px"> (Dine-in Only)</span></span></span></strong></span>\n\n<ul>\n	<li><span style="font-size:14px"><span style="font-family:arial">$4.00&nbsp\; &nbsp\; Chicken or Beef Tacos (ea)</span></span></li>\n	<li><span style="font-size:14px"><span style="font-family:arial">$5.00&nbsp\; &nbsp\; Fish or Shrimp Tacos (ea)</span></span></li>\n	<li><font face="arial"><span style="font-size:14px">$5.00&nbsp\; &nbsp\; Mini Nachos Grande</span></font></li>\n	<li><font face="arial"><span style="font-size:14px">$8.00&nbsp\; &nbsp\; Mini Tuna Nachos</span></font></li>\n	<li><font face="arial"><span style="font-size:14px">$7.00&nbsp\; &nbsp\; Carne Asada Tacos</span></font></li>\n	<li><font face="arial"><span style="font-size:14px">$8.00&nbsp\; &nbsp\; Mexican Street Corn</span></font></li>\n	<li><font face="arial"><span style="font-size:14px">$9.00&nbsp\; &nbsp\; Empanadas</span></font></li>\n	<li><span style="font-size:14px"><span style="font-family:arial">$15.00&nbsp\; &nbsp\;ALL Fajitas</span></span></li>\n</ul>\n<span style="font-family:arial"> <strong><span style="color:black"><span style="font-size:14.0pt">Drink Specials</span></span></strong></span>\n\n<ul>\n	<li><span style="font-size:14px"><span style="font-family:arial">$4.00 Mexican Bottled Beers</span></span></li>\n	<li><span style="font-size:14px"><span style="font-family:arial">$5.00 Mexican Drafts</span></span></li>\n	<li><span style="font-size:14px"><span style="font-family:arial">$6.00 Margaritas (house non-frozen)</span></span></li>\n	<li><span style="font-size:14px"><span style="font-family:arial">$6.00 Crushes</span></span></li>\n	<li><span style="font-size:14px"><span style="font-family:arial">$3.00 Fireball</span></span></li>\n	<li><span style="font-size:14px"><span style="font-family:arial">$1.00 Jello Shots</span></span></li>\n</ul>\n\n<p><span style="font-family:arial"><strong><span style="color:black"><span style="font-size:14.0pt">Entertainment:</span></span></strong><br />\n<br />\n<span style="font-size:14px"><strong>Friday</strong> - DJ Rupe &bull\; 8-11pm<br />\n<br />\n<strong>Saturday</strong> - DJ Rupe &bull\; 1pm-6pm<br />\n&nbsp\; &nbsp\; &nbsp\; &nbsp\; &nbsp\; &nbsp\; &nbsp\; &nbsp\; &nbsp\; DJ Pat &bull\;&nbsp\; 6pm-11pm<br />\n<br />\n<strong>Sunday</strong> - Taylor Knox &bull\; 2-5pm</span></span><br />\n<br />\n<span style="font-family:arial\; font-size:14px"><strong>Wednesday</strong> - DJ Pat &bull\;&nbsp\; 5pm-9pm</span></p>\n\n<p><br />\n&nbsp\;</p>\n
LOCATION:The Salted Rim 35553 Atlantic Avenue Millville\, DE 19967
UID:e.2126.22010
SEQUENCE:3
DTSTAMP:20260424T204058Z
URL:http://business.thequietresorts.com/events/details/cinco-de-mayo-let-s-party-at-the-salted-rim-04-30-2021-22010
END:VEVENT

END:VCALENDAR
