BEGIN:VCALENDAR
VERSION:2.0
PRODID:-//ChamberMaster//Event Calendar 2.0//EN
METHOD:PUBLISH
X-PUBLISHED-TTL:P3D
REFRESH-INTERVAL:P3D
CALSCALE:GREGORIAN
BEGIN:VEVENT
DTSTART:20220429T153000Z
DTEND:20220507T040000Z
X-MICROSOFT-CDO-ALLDAYEVENT:FALSE
SUMMARY:Cinco de Mayo - Come and party at The Salted Rim
DESCRIPTION:Cinco de Mayo \n\nat\n\nThe Salted Rim Margarita Bar & Grille\n\nALL DAY & NIGHT \n\n    \n\n                    Friday        April 29                                   Thursday   May 5\n\n                    Saturday   April 30           and            Friday   May 6\n\n                    Sunday     May 1                                        Saturday   May 7\n\n\n\nDining is on a first come\, first serve walk-in basis only.\n\n\n\n\nFood Specials (Dine-in Only)\n\n\n	$5.00      Chicken or Beef Tacos (ea)\n	$6.00      Fish or Shrimp Tacos (ea)\n	$5.00      Mini Nachos Grande\n	$10.00    Mini Tuna Nachos\n	$8.00      Mexican Street Corn\n	$9.00      Empanadas\n	$15.00     ALL Fajitas\n\n Drink Specials\n\n\n	$5.00 Mexican Bottled Beers\n	$5.00 Mexican Drafts\n	$6.00 Margaritas (house non-frozen)\n	$6.00 Crushes\n	$3.00 Fireball\n	$1.00 Jello Shots\n\n\nEntertainment:\n\n\n\nFriday\, 4/29      - DJ Pat   8-11pm\n\nSaturday\, 4/30 - DJ Rupe   1pm - 6pm\n\n                          - DJ Pat       6pm - 12am\n\nSunday\, 5/1      - Taylor Knox   2pm - 5pm\n\n\n\nThursday\, 5/5   - DJ Pat    4pm - 8pm\n\nFriday\, 5/6        - Jack Bannon   8pm - 11pm\n\nSaturday\, 5/7   - Taylor Knox   4pm - 7pm\n\n                           -  The Repeat Offenders - 7-10pm
X-ALT-DESC;FMTTYPE=text/html:<div style="text-align:center"><em><span style="font-family:arial"><strong><span style="color:#FF0000"><span style="font-size:18.0pt">Cinco de Mayo </span></span><br />\n<span style="font-size:18px"><span style="color:#000000">at<br />\nThe Salted Rim Margarita Bar &amp\; Grille</span></span></strong></span></em></div>\n\n<div style="text-align:center"><span style="font-size:14px"><span style="font-family:arial"><span style="color:#00FF00"><strong>ALL DAY &amp\; NIGHT&nbsp\;</strong></span></span></span><br />\n&nbsp\;&nbsp\;&nbsp\;&nbsp\;</div>\n\n<div style="margin-left:40px">&nbsp\;&nbsp\;&nbsp\;&nbsp\;&nbsp\;&nbsp\;&nbsp\;&nbsp\;&nbsp\;&nbsp\;&nbsp\;&nbsp\;&nbsp\;&nbsp\;&nbsp\;&nbsp\;&nbsp\;&nbsp\;&nbsp\;&nbsp\;<span style="font-size:16px"><span style="font-family:arial"><span style="color:#FFA500"><strong>Friday&nbsp\; &nbsp\; &nbsp\; &bull\; April 29</strong></span></span></span>&nbsp\;&nbsp\;&nbsp\;&nbsp\;&nbsp\;&nbsp\;&nbsp\;&nbsp\;&nbsp\;&nbsp\;&nbsp\;&nbsp\;&nbsp\;&nbsp\;&nbsp\;&nbsp\;&nbsp\;&nbsp\;&nbsp\;&nbsp\;&nbsp\;&nbsp\;&nbsp\;&nbsp\;&nbsp\;&nbsp\;&nbsp\;&nbsp\;&nbsp\;&nbsp\;&nbsp\;&nbsp\;&nbsp\;&nbsp\;&nbsp\;<span style="color:#FFA500"><span style="font-size:16px"><strong>Thursday &bull\; May 5</strong></span></span></div>\n\n<div style="margin-left:40px">&nbsp\;&nbsp\;&nbsp\;&nbsp\;&nbsp\;&nbsp\;&nbsp\;&nbsp\;&nbsp\;&nbsp\;&nbsp\;&nbsp\;&nbsp\;&nbsp\;&nbsp\;&nbsp\;&nbsp\;&nbsp\;&nbsp\;&nbsp\;<span style="font-size:16px"><span style="font-family:arial"><span style="color:#FFA500"><strong>Saturday &bull\; April 30&nbsp\; &nbsp\; &nbsp\; &nbsp\; &nbsp\; &nbsp\;and&nbsp\; &nbsp\; &nbsp\; &nbsp\; &nbsp\; &nbsp\; Friday &bull\; May 6</strong></span></span></span></div>\n\n<div style="margin-left:40px">&nbsp\;&nbsp\;&nbsp\;&nbsp\;&nbsp\;&nbsp\;&nbsp\;&nbsp\;&nbsp\;&nbsp\;&nbsp\;&nbsp\;&nbsp\;&nbsp\;&nbsp\;&nbsp\;&nbsp\;&nbsp\;&nbsp\;&nbsp\;<span style="font-size:16px"><span style="font-family:arial"><span style="color:#FFA500"><strong>Sunday&nbsp\; &nbsp\;&bull\; May 1</strong></span></span></span>&nbsp\;&nbsp\;&nbsp\;&nbsp\;&nbsp\;&nbsp\;&nbsp\;&nbsp\;&nbsp\;&nbsp\;&nbsp\;&nbsp\;&nbsp\;&nbsp\;&nbsp\;&nbsp\;&nbsp\;&nbsp\;&nbsp\;&nbsp\;&nbsp\;&nbsp\;&nbsp\;&nbsp\;&nbsp\;&nbsp\;&nbsp\;&nbsp\;&nbsp\;&nbsp\;&nbsp\;&nbsp\;&nbsp\;&nbsp\;&nbsp\;&nbsp\;&nbsp\; &nbsp\; <span style="color:#FFA07A"><span style="font-size:16px"><strong>Saturday &bull\; May 7</strong></span></span></div>\n\n<div style="text-align:center"><br />\n<span style="font-size:12px">Dining is on a first come\, first serve walk-in basis only.</span></div>\n<br />\n<br />\n<span style="font-family:arial"><strong><span style="color:black"><span style="font-size:14.0pt">Food Specials<span style="font-size:12px"> (Dine-in Only)</span></span></span></strong></span>\n\n<ul>\n	<li><span style="font-size:14px"><span style="font-family:arial">$5.00&nbsp\; &nbsp\; &nbsp\; Chicken or Beef Tacos (ea)</span></span></li>\n	<li><span style="font-size:14px"><span style="font-family:arial">$6.00&nbsp\; &nbsp\; &nbsp\; Fish or Shrimp Tacos (ea)</span></span></li>\n	<li><span style="font-size:14px">$5.00&nbsp\; &nbsp\; &nbsp\; Mini Nachos Grande</span></li>\n	<li><span style="font-size:14px">$10.00&nbsp\; &nbsp\; Mini Tuna Nachos</span></li>\n	<li><span style="font-size:14px">$8.00&nbsp\; &nbsp\; &nbsp\; Mexican Street Corn</span></li>\n	<li><span style="font-size:14px">$9.00&nbsp\; &nbsp\; &nbsp\; Empanadas</span></li>\n	<li><span style="font-size:14px"><span style="font-family:arial">$15.00&nbsp\; &nbsp\; &nbsp\;ALL Fajitas</span></span></li>\n</ul>\n<span style="font-family:arial"> <strong><span style="color:black"><span style="font-size:14.0pt">Drink Specials</span></span></strong></span>\n\n<ul>\n	<li><span style="font-size:14px"><span style="font-family:arial">$5.00 Mexican Bottled Beers</span></span></li>\n	<li><span style="font-size:14px"><span style="font-family:arial">$5.00 Mexican Drafts</span></span></li>\n	<li><span style="font-size:14px"><span style="font-family:arial">$6.00 Margaritas (house non-frozen)</span></span></li>\n	<li><span style="font-size:14px"><span style="font-family:arial">$6.00 Crushes</span></span></li>\n	<li><span style="font-size:14px"><span style="font-family:arial">$3.00 Fireball</span></span></li>\n	<li><span style="font-size:14px"><span style="font-family:arial">$1.00 Jello Shots</span></span></li>\n</ul>\n\n<p><span style="font-family:arial"><strong><span style="color:black"><span style="font-size:14.0pt">Entertainment:</span></span></strong><br />\n<br />\n<span style="font-size:14px"><strong>Friday\, 4/29&nbsp\;</strong>&nbsp\; &nbsp\; &nbsp\;- DJ Pat &bull\; 8-11pm<br />\n<strong>Saturday\, 4/30</strong> - DJ Rupe &bull\; 1pm - 6pm<br />\n&nbsp\; &nbsp\; &nbsp\; &nbsp\; &nbsp\; &nbsp\; &nbsp\; &nbsp\; &nbsp\; &nbsp\; &nbsp\; &nbsp\; &nbsp\; - DJ Pat&nbsp\; &nbsp\; &bull\;&nbsp\; 6pm - 12am<br />\n<strong>Sunday\, 5/1</strong>&nbsp\; &nbsp\; &nbsp\; - Taylor Knox &bull\; 2pm - 5pm</span></span><br />\n<br />\n<span style="font-family:arial\; font-size:14px"><strong>Thursday\, 5/5&nbsp\;&nbsp\;</strong>&nbsp\;- DJ Pat &bull\;&nbsp\; 4pm - 8pm<br />\n<strong>Friday\, 5/6&nbsp\; &nbsp\; &nbsp\; &nbsp\;</strong> - Jack Bannon &bull\; 8pm - 11pm<br />\n<strong>Saturday\, 5/7&nbsp\;&nbsp\;</strong> - Taylor Knox &bull\; 4pm - 7pm</span><br />\n&nbsp\;&nbsp\;&nbsp\;&nbsp\;&nbsp\;&nbsp\;&nbsp\;&nbsp\;&nbsp\;&nbsp\;&nbsp\;&nbsp\;&nbsp\; &nbsp\; &nbsp\; &nbsp\; &nbsp\; &nbsp\; &nbsp\; &nbsp\;-&nbsp\; The Repeat Offenders - 7-10pm</p>\n\n<p><br />\n&nbsp\;</p>\n
LOCATION:The Salted Rim Margarita Bar & Grille 35553 Atlantic Avenue Millville\, DE 19967
UID:e.2126.23628
SEQUENCE:3
DTSTAMP:20260422T001022Z
URL:http://business.thequietresorts.com/events/details/cinco-de-mayo-come-and-party-at-the-salted-rim-23628
END:VEVENT

END:VCALENDAR
