BEGIN:VCALENDAR
VERSION:2.0
PRODID:-//ChamberMaster//Event Calendar 2.0//EN
METHOD:PUBLISH
X-PUBLISHED-TTL:P3D
REFRESH-INTERVAL:P3D
CALSCALE:GREGORIAN
BEGIN:VEVENT
DTSTART:20240503T153000Z
DTEND:20240506T020000Z
X-MICROSOFT-CDO-ALLDAYEVENT:FALSE
SUMMARY:Cinco de Mayo - Come and Party at The Salted Rim
DESCRIPTION:Cinco de Mayo \n\nat\n\nThe Salted Rim Margarita Bar & Grille\n\nALL DAY & NIGHT\n\nALL WEEKEND\n\n\n\nFriday        May 3\n\nSaturday   May 4\n\nSunday      May 5\n\n \n\nDining is on a first come\, first serve walk-in basis only.\n\nAvailable for Dine-in and Take-Out While Supplies Last\n\n\n\n\n\nFood Specials\n\n\n	Chicken or Beef Tacos (ea) - $6\n	Fish or Shrimp Tacos (ea) - $7\n	Mini Nachos - $7\n	Beef Empanadas - $10\n	ALL Fajitas - $18\n	Jalapeno Poppers (3) - $14\n	Seafood Chimi - $24\n	Mexican Pizza - $15\n	Texan Burrito - $19\n	Stuffed Poblanos - $18\n\n\nDrink Specials\n\n\n	OG Lime Margaritas - $7\n	Flavored Margs - $8\n	Rattle Snake Margarita - $9\n	Pineapple Coconut Margarita - $9\n	Mexican Beer - $5\n	Mix & Match Buckets (5 cans) - $23\n	Palomas - $8\n	Fireballs - $4\n	Jello Shooters - $1\n	Pickle Shots - $1\n\n\nEntertainment:\n\nFriday\, 5/3        -  5-8     Taylor Knox\n\n                         -  8-11    Hot Sauce Band\n\nSaturday\, 5/4   -  5-8      Heartland\n\n                         -  8-11    DJ "Denny"\n\nSunday\, 5/5     -  4-8       DJ "Denny"\n\n \n\n*Happy Hour not available during Cinco de Mayo event days*\n\n*Specials Available While They Last!*
X-ALT-DESC;FMTTYPE=text/html:<div style="text-align:center"><em><span style="font-family:arial"><strong><span style="color:#FF0000"><span style="font-size:18.0pt">Cinco de Mayo </span></span><br />\n<span style="font-size:18px"><span style="color:#000000">at<br />\nThe Salted Rim Margarita Bar &amp\; Grille</span></span></strong></span></em></div>\n\n<div style="text-align:center"><span style="font-size:14px"><span style="font-family:arial"><span style="color:#00FF00"><strong>ALL DAY &amp\; NIGHT</strong></span></span></span><br />\n<strong><span style="color:#00FF00">ALL WEEKEND</span></strong><br />\n<br />\n<strong><span style="color:#DAA520">Friday&nbsp\; &nbsp\; &nbsp\; &bull\; May 3</span></strong><br />\n<span style="color:#DAA520"><strong>Saturday &bull\; May 4</strong><br />\n<strong>Sunday&nbsp\; &nbsp\; &bull\; May 5</strong></span></div>\n\n<div>&nbsp\;</div>\n\n<div style="text-align:center"><span style="font-size:12px">Dining is on a first come\, first serve walk-in basis only.<br />\nAvailable for Dine-in and Take-Out While Supplies Last</span></div>\n\n<div><br />\n<br />\n<span style="font-family:arial"><strong><span style="color:black"><span style="font-size:14.0pt">Food Specials</span></span></strong></span></div>\n\n<ul>\n	<li><span style="font-size:14px"><span style="font-family:arial">Chicken or Beef Tacos (ea) - $6</span></span></li>\n	<li><span style="font-size:14px"><span style="font-family:arial">Fish or Shrimp Tacos (ea) - $7</span></span></li>\n	<li><span style="font-size:14px">Mini Nachos - $7</span></li>\n	<li><span style="font-size:14px">Beef Empanadas - $10</span></li>\n	<li><span style="font-size:14px">ALL Fajitas - $18</span></li>\n	<li><span style="font-size:14px"><span style="font-family:arial">Jalapeno Poppers (3) - $14</span></span></li>\n	<li><span style="font-size:14px"><span style="font-family:arial">Seafood Chimi - $24</span></span></li>\n	<li><span style="font-size:14px"><span style="font-family:arial">Mexican Pizza - $15</span></span></li>\n	<li><span style="font-size:14px"><span style="font-family:arial">Texan Burrito - $19</span></span></li>\n	<li><span style="font-size:14px"><span style="font-family:arial">Stuffed Poblanos - $18</span></span></li>\n</ul>\n\n<div><span style="font-family:arial"><strong><span style="color:black"><span style="font-size:14.0pt">Drink Specials</span></span></strong></span></div>\n\n<ul>\n	<li>OG Lime Margaritas - $7</li>\n	<li>Flavored Margs - $8</li>\n	<li>Rattle Snake Margarita - $9</li>\n	<li>Pineapple Coconut Margarita - $9</li>\n	<li>Mexican Beer - $5</li>\n	<li>Mix &amp\; Match Buckets (5 cans) - $23</li>\n	<li>Palomas - $8</li>\n	<li>Fireballs - $4</li>\n	<li>Jello Shooters - $1</li>\n	<li>Pickle Shots - $1</li>\n</ul>\n\n<p><span style="font-family:arial"><strong><span style="color:black"><span style="font-size:14.0pt">Entertainment:</span></span></strong></span><br />\n<span style="font-family:arial\; font-size:14px"><strong>Friday\, 5/3&nbsp\;&nbsp\;</strong>&nbsp\; &nbsp\; &nbsp\; -&nbsp\; 5-8&nbsp\; &nbsp\;&bull\; Taylor Knox<br />\n&nbsp\; &nbsp\; &nbsp\; &nbsp\; &nbsp\; &nbsp\; &nbsp\; &nbsp\; &nbsp\; &nbsp\; &nbsp\; &nbsp\; &nbsp\;-&nbsp\; 8-11&nbsp\; &bull\; Hot Sauce Band<br />\n<strong>Saturday\, 5/4&nbsp\;&nbsp\;</strong>&nbsp\;-&nbsp\; 5-8&nbsp\; &nbsp\; &bull\; Heartland<br />\n&nbsp\; &nbsp\; &nbsp\; &nbsp\; &nbsp\; &nbsp\; &nbsp\; &nbsp\; &nbsp\; &nbsp\; &nbsp\; &nbsp\; &nbsp\;-&nbsp\; 8-11&nbsp\; &bull\; DJ &quot\;Denny&quot\;<br />\n<strong>Sunday\, 5/5&nbsp\;&nbsp\;</strong>&nbsp\; &nbsp\;-&nbsp\; 4-8&nbsp\; &nbsp\; &bull\;&nbsp\; DJ &quot\;Denny&quot\;</span></p>\n\n<p>&nbsp\;</p>\n\n<p style="text-align:center">*Happy Hour not available during Cinco de Mayo event days*<br />\n*Specials Available While They Last!*</p>\n
LOCATION:The Salted Rim Margarita Bar & Grille 35553 Atlantic Avenue Millville\, DE 19967 302-537-7373
UID:e.2126.29227
SEQUENCE:3
DTSTAMP:20260420T042234Z
URL:http://business.thequietresorts.com/events/details/cinco-de-mayo-come-and-party-at-the-salted-rim-05-03-2024-29227
END:VEVENT

END:VCALENDAR
