BEGIN:VCALENDAR
VERSION:2.0
PRODID:-//ChamberMaster//Event Calendar 2.0//EN
METHOD:PUBLISH
X-PUBLISHED-TTL:P3D
REFRESH-INTERVAL:P3D
CALSCALE:GREGORIAN
BEGIN:VEVENT
DTSTART:20230505T153000Z
DTEND:20230508T020000Z
X-MICROSOFT-CDO-ALLDAYEVENT:FALSE
SUMMARY:Cinco de Mayo - Come and party at The Salted Rim
DESCRIPTION:Cinco de Mayo \n\nat\n\nThe Salted Rim Margarita Bar & Grille\n\nALL DAY & NIGHT\n\n\n\nFriday        May 5\n\nSaturday   May 6\n\nSunday      May 7\n\n \n\nDining is on a first come\, first serve walk-in basis only.\n\n\n\n\n\nFood Specials (Dine-in Only)\n\n\n	$6.00      Chicken or Beef Tacos (ea)\n	$7.00      Fish or Shrimp Tacos (ea)\n	$7.00      Mini Nachos\n	$10.00    Tuna Nachos\n	$10.00     Empanadas\n	$16.00     ALL Fajitas\n\n\nDrink Specials\n\n\n	$5.00    Mexican Beers (cans:  Corona\, Corona Lite\, Pacifico)\n	$5.00    Mexican Beers (draft:  Corona Premire\, Modelo Especial)\n	$23.00  Mix & Match Buckets (5 cans)\n	$8.00    21 Seeds Spicy Margs\n	$8.00    Corralejo Palomas\n	$10.00  Don Julio or Casamigo Margs\n	$7.00    House Lime Margaritas & Crushes\n	$4.00    Fireball\n	$1.00    Jello Shooters & Pickle Shots\n\n\nEntertainment:\n\nFriday\, 5/5        - DJ Pat    1pm - 4pm\n\n                         -  DJ Denny   4pm - 11pm\n\nSaturday\, 5/6   -  DJ Pat 1pm - 6pm\n\n                         -  DJ Denny   6pm - 11pm\n\nSunday\, 5/7     -  String Theory 3pm - 6pm\n\n \n\n*Happy Hour not available during Cinco de Mayo event days*
X-ALT-DESC;FMTTYPE=text/html:<div style="text-align:center"><em><span style="font-family:arial"><strong><span style="color:#FF0000"><span style="font-size:18.0pt">Cinco de Mayo </span></span><br />\n<span style="font-size:18px"><span style="color:#000000">at<br />\nThe Salted Rim Margarita Bar &amp\; Grille</span></span></strong></span></em></div>\n\n<div style="text-align:center"><span style="font-size:14px"><span style="font-family:arial"><span style="color:#00FF00"><strong>ALL DAY &amp\; NIGHT</strong></span></span></span><br />\n<br />\n<strong><span style="color:#DAA520">Friday&nbsp\; &nbsp\; &nbsp\; &bull\; May 5</span></strong><br />\n<span style="color:#DAA520"><strong>Saturday &bull\; May 6</strong><br />\n<strong>Sunday&nbsp\; &nbsp\; &bull\; May 7</strong></span></div>\n\n<div>&nbsp\;</div>\n\n<div style="text-align:center"><span style="font-size:12px">Dining is on a first come\, first serve walk-in basis only.</span></div>\n\n<div><br />\n<br />\n<span style="font-family:arial"><strong><span style="color:black"><span style="font-size:14.0pt">Food Specials<span style="font-size:12px"> (Dine-in Only)</span></span></span></strong></span></div>\n\n<ul>\n	<li><span style="font-size:14px"><span style="font-family:arial">$6.00&nbsp\; &nbsp\; &nbsp\; Chicken or Beef Tacos (ea)</span></span></li>\n	<li><span style="font-size:14px"><span style="font-family:arial">$7.00&nbsp\; &nbsp\; &nbsp\; Fish or Shrimp Tacos (ea)</span></span></li>\n	<li><span style="font-size:14px">$7.00&nbsp\; &nbsp\; &nbsp\; Mini Nachos</span></li>\n	<li><span style="font-size:14px">$10.00&nbsp\; &nbsp\; Tuna Nachos</span></li>\n	<li><span style="font-size:14px">$10.00&nbsp\; &nbsp\; &nbsp\;Empanadas</span></li>\n	<li><span style="font-size:14px"><span style="font-family:arial">$16.00&nbsp\; &nbsp\; &nbsp\;ALL Fajitas</span></span></li>\n</ul>\n\n<div><span style="font-family:arial"><strong><span style="color:black"><span style="font-size:14.0pt">Drink Specials</span></span></strong></span></div>\n\n<ul>\n	<li><span style="font-size:14px"><span style="font-family:arial">$5.00&nbsp\; &nbsp\; Mexican Beers&nbsp\;<span style="font-size:12px">(cans:&nbsp\; Corona\, Corona Lite\, Pacifico)</span></span></span></li>\n	<li><span style="font-size:14px"><span style="font-family:arial">$5.00&nbsp\; &nbsp\; Mexican Beers&nbsp\;<span style="font-size:12px">(draft:&nbsp\; Corona Premire\, Modelo Especial)</span></span></span></li>\n	<li><span style="font-size:14px"><span style="font-family:arial">$23.00&nbsp\; Mix &amp\; Match Buckets (5 cans)</span></span></li>\n	<li><span style="font-size:14px"><span style="font-family:arial">$8.00&nbsp\; &nbsp\; 21 Seeds Spicy Margs</span></span></li>\n	<li><span style="font-size:14px"><span style="font-family:arial">$8.00&nbsp\; &nbsp\; Corralejo Palomas</span></span></li>\n	<li><span style="font-size:14px"><span style="font-family:arial">$10.00&nbsp\; Don Julio or Casamigo Margs</span></span></li>\n	<li><span style="font-size:14px"><span style="font-family:arial">$7.00&nbsp\; &nbsp\; House Lime Margaritas &amp\; Crushes</span></span></li>\n	<li><span style="font-size:14px"><span style="font-family:arial">$4.00&nbsp\; &nbsp\; Fireball</span></span></li>\n	<li><span style="font-size:14px"><span style="font-family:arial">$1.00&nbsp\; &nbsp\; Jello Shooters &amp\; Pickle Shots</span></span></li>\n</ul>\n\n<p><span style="font-family:arial"><strong><span style="color:black"><span style="font-size:14.0pt">Entertainment:</span></span></strong></span><br />\n<span style="font-family:arial\; font-size:14px"><strong>Friday\, 5/5&nbsp\;&nbsp\;</strong>&nbsp\; &nbsp\; &nbsp\; - DJ Pat &bull\;&nbsp\; 1pm - 4pm<br />\n&nbsp\; &nbsp\; &nbsp\; &nbsp\; &nbsp\; &nbsp\; &nbsp\; &nbsp\; &nbsp\; &nbsp\; &nbsp\; &nbsp\; &nbsp\;-&nbsp\; DJ Denny &bull\; 4pm - 11pm<br />\n<strong>Saturday\, 5/6&nbsp\; </strong>&nbsp\;-&nbsp\; DJ Pat 1pm - 6pm<br />\n&nbsp\; &nbsp\; &nbsp\; &nbsp\; &nbsp\; &nbsp\; &nbsp\; &nbsp\; &nbsp\; &nbsp\; &nbsp\; &nbsp\; &nbsp\;-&nbsp\; DJ Denny &bull\; 6pm - 11pm<br />\n<strong>Sunday\, 5/7&nbsp\;&nbsp\;</strong>&nbsp\; &nbsp\;-&nbsp\; String Theory 3pm - 6pm</span></p>\n\n<p>&nbsp\;</p>\n\n<p style="text-align:center">*Happy Hour not available during Cinco de Mayo event days*</p>\n
LOCATION:The Salted Rim Margarita Bar & Grille 35553 Atlantic Avenue Millville\, DE 19967
UID:e.2126.25487
SEQUENCE:3
DTSTAMP:20260421T042855Z
URL:http://business.thequietresorts.com/events/details/cinco-de-mayo-come-and-party-at-the-salted-rim-04-29-2022-25487
END:VEVENT

END:VCALENDAR
