BEGIN:VCALENDAR
VERSION:2.0
PRODID:-//ChamberMaster//Event Calendar 2.0//EN
METHOD:PUBLISH
X-PUBLISHED-TTL:P3D
REFRESH-INTERVAL:P3D
CALSCALE:GREGORIAN
BEGIN:VEVENT
DTSTART:20210729T233000Z
DTEND:20210730T010000Z
X-MICROSOFT-CDO-ALLDAYEVENT:FALSE
SUMMARY:Christopher Westfall
DESCRIPTION:Chris is a Nashville recording artist who has received nationwide radio play for his acoustic-folk style.  His show moves gently from familiar folk tunes to original interpretations of artists such as James Taylor and John Denver and then to his own heartfelt compositions. www.chriswestfall.com
X-ALT-DESC;FMTTYPE=text/html:<span style="font-size:14px\;"><span style="background-color: rgba(255\, 255\, 255\, 0.95)\; color: rgb(68\, 68\, 68)\; font-family: arial\;">Chris is a Nashville recording artist who has received nationwide radio play for his acoustic-folk style. &nbsp\;His show moves gently from familiar folk tunes to original interpretations of artists such as James Taylor and John Denver and then to his own heartfelt compositions. www.chriswestfall.com</span></span>
LOCATION:Bethany Beach Bandstand Garfield Parkway & Boardwalk\, Bethany Beach
UID:e.2126.22573
SEQUENCE:3
DTSTAMP:20260424T172736Z
URL:http://business.thequietresorts.com/events/details/christopher-westfall-22573
END:VEVENT

END:VCALENDAR
