BEGIN:VCALENDAR
VERSION:2.0
PRODID:-//ChamberMaster//Event Calendar 2.0//EN
METHOD:PUBLISH
X-PUBLISHED-TTL:P3D
REFRESH-INTERVAL:P3D
CALSCALE:GREGORIAN
BEGIN:VEVENT
DTSTART:20231214T210000Z
DTEND:20231214T220000Z
X-MICROSOFT-CDO-ALLDAYEVENT:FALSE
SUMMARY:Christmas Cocktails & Cookies Class at Bethany Beach Ocean Suites
DESCRIPTION:Get into the spirit of the season with our team at Via Sophia by the Sea! Join us as our expert mixologist guides you through crafting some of our favorite Christmas cocktails all while you enjoy decorating festive holiday cookies!
X-ALT-DESC;FMTTYPE=text/html:<span style="color:rgb(111\, 114\, 135)\; font-family:neue plak\,-apple-system\,system-ui\,roboto\,helvetica neue\,helvetica\,tahoma\,arial\,sans-serif\; font-size:16px">Get into the spirit of the season with our team at Via Sophia by the Sea! Join us as our expert mixologist guides you through crafting some of our favorite Christmas cocktails all while you enjoy decorating festive holiday cookies!</span>
LOCATION:Via Sophia by the Sea 99 Hollywood Street Bethany Beach\, DE 19930
UID:e.2126.27163
SEQUENCE:3
DTSTAMP:20260420T152256Z
URL:http://business.thequietresorts.com/events/details/christmas-cocktails-cookies-class-12-14-2023-27163
END:VEVENT

END:VCALENDAR
