BEGIN:VCALENDAR
VERSION:2.0
PRODID:-//ChamberMaster//Event Calendar 2.0//EN
METHOD:PUBLISH
X-PUBLISHED-TTL:P3D
REFRESH-INTERVAL:P3D
CALSCALE:GREGORIAN
BEGIN:VEVENT
DTSTART:20231209T153000Z
DTEND:20231209T180000Z
X-MICROSOFT-CDO-ALLDAYEVENT:FALSE
SUMMARY:Christmas at the Cottages in Bethany Beach
DESCRIPTION:Holiday Happenings will continue Saturday December 9th with Christmas at the Cottages. From 10:30 AM to noon\, the Nature Center will host Alpaca Christmas Adventure with live Alpacas. From 11 AM to 1 PM the Dinker-Irvin Museum will host feature Victorian carolers\, a gingerbread house activity\, and tours of the decorated museum. For more information\, please visit www.townofbethanybeach.com under Activities and Events.
X-ALT-DESC;FMTTYPE=text/html:<div>Holiday Happenings will continue Saturday December 9th with Christmas at the Cottages. From 10:30 AM to noon\, the Nature Center will host Alpaca Christmas Adventure with live Alpacas. From 11 AM to 1 PM the Dinker-Irvin Museum will host feature Victorian carolers\, a gingerbread house activity\, and tours of the decorated museum. For more information\, please visit&nbsp\;<a class="x1i10hfl xjbqb8w x6umtig x1b1mbwd xaqea5y xav7gou x9f619 x1ypdohk xt0psk2 xe8uvvx xdj266r x11i5rnm xat24cr x1mh8g0r xexx8yu x4uap5 x18d9i69 xkhd6sd x16tdsg8 x1hl2dhg xggy1nq x1a2a7pz xt0b8zv x1fey0fg" href="http://www.townofbethanybeach.com/?fbclid=IwAR1rVBya2kY2yQXRtXrdMnZfKYZt1yXt4ZGBygF8yL_xlCRMCkMD_AcjOow" rel="nofollow" style="background-color: transparent\; font-family: inherit\; color: var(--blue-link)\; cursor: pointer\; text-decoration-line: none\; outline: none\; border-width: 0px\; border-style: initial\; border-color: initial\; list-style: none\; margin: 0px\; text-align: inherit\; padding: 0px\; box-sizing: border-box\; -webkit-tap-highlight-color: transparent\; touch-action: manipulation\; display: inline\; animation-name: none !important\; transition-property: none !important\;" tabindex="0" target="_blank">www.townofbethanybeach.com</a>&nbsp\;under Activities and Events.</div>\n
LOCATION:Bethany Beach Nature Cente 807 Garfield Parkway Bethany Beach\, DE 19930 Dinker Irvin Museum 318 Garfield Parkway Bethany Beach\, DE 19930
UID:e.2126.27167
SEQUENCE:3
DTSTAMP:20260420T152051Z
URL:http://business.thequietresorts.com/events/details/christmas-at-the-cottages-in-bethany-beach-27167
END:VEVENT

END:VCALENDAR
