BEGIN:VCALENDAR
VERSION:2.0
PRODID:-//ChamberMaster//Event Calendar 2.0//EN
METHOD:PUBLISH
X-PUBLISHED-TTL:P3D
REFRESH-INTERVAL:P3D
CALSCALE:GREGORIAN
BEGIN:VEVENT
DTSTART:20200404T220000Z
DTEND:20200405T000000Z
X-MICROSOFT-CDO-ALLDAYEVENT:FALSE
SUMMARY:Christian Singles Coffee Cafe - Karaoke Night
DESCRIPTION:ARE YOU TIRED OF THE SAME OLD DATING SCENE? ARE YOU BETWEEN THE AGES OF 18 AND 40? ARE YOU INTERESTED IN MEETING OTHERS WITH SIMILAR FAITH AND BELIEFS? Join us for the first of many Christian Singles events. We will be providing small bites\, Mocktails and the entertainment by DJ Randy P "The Positive One". You just need to come ready to have a good time and meet others with similar beliefs. To register please RSVP to marinersbethel.churchcenter.com
X-ALT-DESC;FMTTYPE=text/html:<span style="font-size: 14px\;"><span style="font-family: arial\;">ARE YOU TIRED OF THE SAME OLD DATING SCENE? ARE YOU BETWEEN THE AGES OF 18 AND 40? ARE YOU INTERESTED IN MEETING OTHERS WITH SIMILAR FAITH AND BELIEFS? Join us for the first of many Christian Singles events. We will be providing small bites\, Mocktails and the entertainment by DJ Randy P &quot\;The Positive One&quot\;. You just need to come ready to have a good time and meet others with similar beliefs. To register please RSVP to marinersbethel.churchcenter.com</span></span>
LOCATION:Mariners Bethel UMC Social Hall 81 Central Ave Ocean View\, DE 19970
UID:e.2126.20264
SEQUENCE:3
DTSTAMP:20260425T212354Z
URL:http://business.thequietresorts.com/events/details/christian-singles-coffee-cafe-karaoke-night-20264
END:VEVENT

END:VCALENDAR
