BEGIN:VCALENDAR
VERSION:2.0
PRODID:-//ChamberMaster//Event Calendar 2.0//EN
METHOD:PUBLISH
X-PUBLISHED-TTL:P3D
REFRESH-INTERVAL:P3D
CALSCALE:GREGORIAN
BEGIN:VEVENT
DTSTART:20221127T000000Z
DTEND:20221127T011500Z
X-MICROSOFT-CDO-ALLDAYEVENT:FALSE
SUMMARY:Chris Capeheart: Master Magician
DESCRIPTION:"International Award-winning Master Magician"\n\nCHILD 12 and under $28 ADULT $45\n\nChris Capehart is an accomplished master\, respected throughout the world by the most famous of magicians and sought after for repeat performances by critics and audience members alike. Over four decades\, Chris has performed in the world's most prominent theaters\, become an accomplished street performer\, created routines for the biggest names in magic\, and conquered the ancient techniques behind the linking rings. His skills in the art of close-up performance are no less than astonishing. He has been published and imitated throughout the world. Last but not least\, he was featured on the cover of Genii Magazine\, where it took 23 pages to tell his story.\n\nChris Capehart is regarded as "one of the important forces in magic today." Chris' one-man tour-de-force transforms centuries-old magical props into modern\, mind-blowing\, close-up illusions. His show combines wit\, comedy\, and deception to amaze and thrill\, which is why Chris Capehart is held in such high esteem by magicians around the world.\n\nDining Room & Bar opens at 5 pm and at noon for lunch for matinee\n\nFor dinner and lunch Reservations\, call 302-462-5874\n\nTheatre Doors Open at 645 PM and 1:45 for matinee
X-ALT-DESC;FMTTYPE=text/html:<p><strong><em>&ldquo\;International Award-winning Master Magician&rdquo\;</em></strong></p>\n\n<p><strong>CHILD 12&nbsp\;and under $28&nbsp\;ADULT&nbsp\;$45</strong></p>\n\n<p><span style="color:rgb(48\, 48\, 48)">Chris Capehart</span><strong>&nbsp\;</strong><span style="color:rgb(48\, 48\, 48)">is an accomplished master\, respected throughout the world by the most famous of magicians and sought after for repeat performances by critics and audience members alike. Over four decades\, Chris has performed in the world&rsquo\;s most prominent theaters\, become an accomplished street performer\, created routines for the biggest names in magic\, and conquered the ancient techniques behind the linking rings. His skills in the art of close-up performance are no less than astonishing. He has been published and imitated throughout the world. Last but not least\, he was featured on the cover of Genii Magazine\, where it took 23 pages to tell his story.</span></p>\n\n<p><span style="color:rgb(48\, 48\, 48)">Chris Capehart is regarded as &ldquo\;one of the important forces in magic today.&rdquo\; Chris&rsquo\; one-man tour-de-force transforms centuries-old magical props into modern\, mind-blowing\, close-up illusions. His show combines wit\, comedy\, and deception to amaze and thrill\, which is why Chris Capehart is held in such high esteem by magicians around the world.</span></p>\n\n<p><strong>Dining Room &amp\; Bar opens at 5 pm and at noon for lunch for matinee</strong></p>\n\n<p><strong>For dinner and lunch Reservations\, call&nbsp\;</strong><a class="ql-size-large" href="tel:302-462-5874" rel="noopener noreferrer" style="box-sizing: border-box\; color: rgb(230\, 0\, 0)\; text-decoration-line: none\; background-color: transparent\; outline: none !important\;" target="_blank"><strong>302-462-5874</strong></a></p>\n\n<p><strong>Theatre Doors Open at 645 PM and 1:45 for matinee</strong></p>\n
LOCATION:Dickens Parlour Theatre 31810 Good Earth Lane Ocean View\, DE 19970
UID:e.2126.24868
SEQUENCE:3
DTSTAMP:20260421T142124Z
URL:http://business.thequietresorts.com/events/details/chris-capeheart-master-magician-11-26-2022-24868
END:VEVENT

END:VCALENDAR
