BEGIN:VCALENDAR
VERSION:2.0
PRODID:-//ChamberMaster//Event Calendar 2.0//EN
METHOD:PUBLISH
X-PUBLISHED-TTL:P3D
REFRESH-INTERVAL:P3D
CALSCALE:GREGORIAN
BEGIN:VEVENT
DTSTART:20230520T200000Z
DTEND:20230520T220000Z
X-MICROSOFT-CDO-ALLDAYEVENT:FALSE
SUMMARY:Choir School of Delaware
DESCRIPTION:The Choir School of Delaware will perform on Saturday\, May 20 at 4 pm.  Tickets are not required.  Freewill offering.
X-ALT-DESC;FMTTYPE=text/html:<span style="font-size:14px\;"><span style="font-family:arial\;">The Choir School of Delaware will perform on Saturday\, May 20 at 4 pm.&nbsp\; Tickets are not required.&nbsp\; Freewill offering.&nbsp\;&nbsp\;</span></span>
LOCATION:St. Martha's Episcopal Church 117 Maplewood Street Bethany Beach\, DE 19930
UID:e.2126.25570
SEQUENCE:3
DTSTAMP:20260421T023919Z
URL:http://business.thequietresorts.com/events/details/choir-school-of-delaware-25570
END:VEVENT

END:VCALENDAR
