BEGIN:VCALENDAR
VERSION:2.0
PRODID:-//ChamberMaster//Event Calendar 2.0//EN
METHOD:PUBLISH
X-PUBLISHED-TTL:P3D
REFRESH-INTERVAL:P3D
CALSCALE:GREGORIAN
BEGIN:VEVENT
DTSTART:20220616T230000Z
DTEND:20220617T020000Z
X-MICROSOFT-CDO-ALLDAYEVENT:FALSE
SUMMARY:Choir! Choir! Choir!
DESCRIPTION:Choir! Choir! Choir! is a Toronto-based singing group led by creative directors Nobu Adilman and Daveed Goldman. The duo takes a non-traditional approach\; there are no auditions\, and the audience is the choir. Just show up and they'll teach you an original arrangement to a song you love. Founded in 2011\, Choir! Choir! Choir! has amassed a dedicated and passionate community of singers and a thriving international fan base on YouTube. The group has performed with renowned artists such as Patti Smith\, Tegan and Sara\, David Byrne\, Rick Astley\, and Rufus Wainwright\, and onstage at New York's Carnegie Hall and Radio City Music Hall with the likes of Debbie Harry and The Flaming Lips. Choir! Choir! Choir! exists to celebrate music and push the boundaries between practice and performance\, artist and audience\, offering therapeutic benefits with the ultimate side effect: a powerful community.
X-ALT-DESC;FMTTYPE=text/html:<span style="font-size:14px\;"><span style="font-family:arial\;">Choir! Choir! Choir! is a Toronto-based singing group led by creative directors Nobu Adilman and Daveed Goldman. The duo takes a non-traditional approach\; there are no auditions\, and the audience is the choir. Just show up and they&#39\;ll teach you an original arrangement to a song you love. Founded in 2011\, Choir! Choir! Choir! has amassed a dedicated and passionate community of singers and a thriving international fan base on YouTube. The group has performed with renowned artists such as Patti Smith\, Tegan and Sara\, David Byrne\, Rick Astley\, and Rufus Wainwright\, and onstage at New York&rsquo\;s Carnegie Hall and Radio City Music Hall with the likes of Debbie Harry and The Flaming Lips. Choir! Choir! Choir! exists to celebrate music and push the boundaries between practice and performance\, artist and audience\, offering therapeutic benefits with the ultimate side effect: a powerful community.</span></span>
LOCATION:FREEMAN ARTS PAVILION 31806 Lakeview Drive Selbyville\, DE 19975
UID:e.2126.23547
SEQUENCE:3
DTSTAMP:20260421T222714Z
URL:http://business.thequietresorts.com/events/details/choir-choir-choir-23547
END:VEVENT

END:VCALENDAR
