BEGIN:VCALENDAR
VERSION:2.0
PRODID:-//ChamberMaster//Event Calendar 2.0//EN
METHOD:PUBLISH
X-PUBLISHED-TTL:P3D
REFRESH-INTERVAL:P3D
CALSCALE:GREGORIAN
BEGIN:VEVENT
DTSTART:20240612T213000Z
DTEND:20240612T230000Z
X-MICROSOFT-CDO-ALLDAYEVENT:FALSE
SUMMARY:Charcuterie Board Fundraiser at Georgetown Public Library
DESCRIPTION:Come design your own Charcuterie Board with Holly Dattilo\, owner of Little Biddy Boujee Boards! You'll learn how to arrange your items to make a delicious and eye-catching board!\n\nNo experience is necessary! Your ticket will include food items to go on a 10" board\, that will be wrapped to take home! Please note that this event is a fundraiser and does have a cost: $50 per Adult.\n\nSign up online to make a temporary registration. In order to reserve a seat\, the library must receive your payment one week before the event. Payment can be made by over the phone by credit card\, or in person at the library with cash\, check\, or credit card. \n\nCancellation Policy: If you are not able to attend your workshop\, please contact us ASAP. Refunds will not be given if the cancellation occurs less than 48 hours before the event start time.
X-ALT-DESC;FMTTYPE=text/html:<p><span style="font-size:14px">Come design your own Charcuterie Board with Holly Dattilo\, owner of Little Biddy Boujee Boards! You&rsquo\;ll learn how to arrange your items to make a delicious and eye-catching board!</span></p>\n\n<p><span style="font-size:14px">No experience is necessary! Your ticket will include food items to go on a 10&quot\; board\, that will be&nbsp\;wrapped&nbsp\;to take home! Please note that this event is a fundraiser and does have a cost:&nbsp\;$50 per Adult.</span></p>\n\n<p><span style="font-size:14px"><strong>Sign up online to make a temporary registration.&nbsp\;In order to reserve a seat\, the library must receive your payment one week before the event. Payment can be made by over the phone by credit card\, or in person at the library with cash\, check\, or credit card. </strong></span></p>\n\n<p><span style="font-size:14px">Cancellation Policy: If you are not able to attend your workshop\, please contact us ASAP. Refunds will not be given if the cancellation occurs less than 48 hours before the event start time.&nbsp\;</span></p>\n
LOCATION:Georgetown Public Library 123 West Pine St. Georgetown\, DE 19947
UID:e.2126.29288
SEQUENCE:3
DTSTAMP:20260420T090827Z
URL:http://business.thequietresorts.com/events/details/charcuterie-board-fundraiser-at-georgetown-public-library-29288
END:VEVENT

END:VCALENDAR
