BEGIN:VCALENDAR
VERSION:2.0
PRODID:-//ChamberMaster//Event Calendar 2.0//EN
METHOD:PUBLISH
X-PUBLISHED-TTL:P3D
REFRESH-INTERVAL:P3D
CALSCALE:GREGORIAN
BEGIN:VEVENT
DTSTART:20240603T160000Z
DTEND:20240603T200000Z
X-MICROSOFT-CDO-ALLDAYEVENT:FALSE
SUMMARY:Chamber Dagsboro Office Grand Opening Ribbon Cutting + Open House
DESCRIPTION:The Bethany-Fenwick Area Chamber of Commerce is proud to announce the grand opening celebration for the Chamber's new Dagsboro office will be held on Monday\, June 3rd!  There will be an open house from 12:00 - 4:00 PM and a ribbon cutting at 2:00 PM.\n\n\n\nMember businesses are encouraged to come see the new space\, bring collateral for the Dagsboro information center\, and celebrate with the Chamber staff and Board of Directors.  There will be refreshments and entertainment onsite\, plus live radio with Dana McDonald from 12:00 - 2:00 PM!\n\n\n\nIf the afternoon is not ideal for you\, the Chamber will also be holding a Connect for Coffee at the new office on June 3rd from 8:00 - 10:00 AM!
X-ALT-DESC;FMTTYPE=text/html:The Bethany-Fenwick Area Chamber of Commerce is proud to announce the grand opening celebration for the Chamber&#39\;s new Dagsboro office will be held on Monday\, June 3rd!&nbsp\; There will be an open house from 12:00 - 4:00 PM and a ribbon cutting at 2:00 PM.<br />\n<br />\nMember businesses are encouraged to come see the new space\, bring collateral for the Dagsboro information center\, and celebrate with the Chamber staff and Board of Directors.&nbsp\; There will be refreshments and entertainment onsite\, plus live radio with Dana McDonald from 12:00 - 2:00 PM!<br />\n<br />\nIf the afternoon is not ideal for you\, the Chamber will also be holding a <a href="https://business.bethany-fenwick.org/events/details/connect-for-coffee-at-the-chamber-s-new-dagsboro-office-30065">Connect for Coffee at the new office on June 3rd</a>&nbsp\;from 8:00 - 10:00 AM!<br />\n<br />\n&nbsp\;
LOCATION:33370 Main St. Dagsboro\, DE 19939
UID:e.2126.30064
SEQUENCE:3
DTSTAMP:20260420T091418Z
URL:http://business.thequietresorts.com/events/details/chamber-dagsboro-office-grand-opening-ribbon-cutting-open-house-30064
END:VEVENT

END:VCALENDAR
