BEGIN:VCALENDAR
VERSION:2.0
PRODID:-//ChamberMaster//Event Calendar 2.0//EN
METHOD:PUBLISH
X-PUBLISHED-TTL:P3D
REFRESH-INTERVAL:P3D
CALSCALE:GREGORIAN
BEGIN:VEVENT
DTSTART:20230718T140000Z
DTEND:20230718T160000Z
X-MICROSOFT-CDO-ALLDAYEVENT:FALSE
SUMMARY:Center for the Inland Bays Family Workshop: Who Is Hiding in Plain Sight?
DESCRIPTION:What do horseshoe crabs\, turtles and toads have in common? They're all masters of disguise! Learn more about how these animals use camouflage and put your skills to the test during a game. The program will also include a take-home project to help people bring their new knowledge & skills back to their own gardens!\n\nPlease note: These programs are fun for all-ages and are designed for parents & grandparents to learn alongside their children. A parent or guardian must remain with their children throughout the program.\n\nThe suggested donation for this event is $20 per group. Donations are nonrefundable. All proceeds benefit the Delaware Center for the Inland Bays.\n\nQuestions? Please contact Maddie Fox\, Environmental Education Specialist\, at mfox@inlandbays.org\n\nClick here to register!
X-ALT-DESC;FMTTYPE=text/html:<h5>What do horseshoe crabs\, turtles and toads have in common? They&rsquo\;re all masters of disguise! Learn more about how these animals use camouflage and put your skills to the test during a game. The program will also include a take-home project to help people bring their new knowledge &amp\; skills back to their own gardens!</h5>\n\n<h5>Please note: These programs are fun for all-ages and are designed for parents &amp\; grandparents to learn alongside their children. A parent or guardian must remain with their children throughout the program.</h5>\n\n<h5>The suggested donation for this event is $20 per group. Donations are nonrefundable. All proceeds benefit the Delaware Center for the Inland Bays.</h5>\n\n<h5>Questions? Please contact Maddie Fox\, Environmental Education Specialist\, at&nbsp\;mfox@inlandbays.org</h5>\n\n<h5><strong><a href="https://www.eventbrite.com/e/580896345607" style="box-sizing: border-box\; background-color: transparent\; border-bottom: 1px solid currentcolor\; text-decoration-line: none\; color: rgb(28\, 30\, 31) !important\;">Click here to register!</a></strong></h5>\n\n<h5>&nbsp\;</h5>\n
LOCATION:Inland Bays Garden Center 38320 Muddy Neck Rd\, Frankford\, DE\, 19945
UID:e.2126.26144
SEQUENCE:3
DTSTAMP:20260420T230700Z
URL:http://business.thequietresorts.com/events/details/center-for-the-inland-bays-family-workshop-who-is-hiding-in-plain-sight-26144
END:VEVENT

END:VCALENDAR
