BEGIN:VCALENDAR
VERSION:2.0
PRODID:-//ChamberMaster//Event Calendar 2.0//EN
METHOD:PUBLISH
X-PUBLISHED-TTL:P3D
REFRESH-INTERVAL:P3D
CALSCALE:GREGORIAN
BEGIN:VEVENT
DTSTART:20230711T140000Z
DTEND:20230711T160000Z
X-MICROSOFT-CDO-ALLDAYEVENT:FALSE
SUMMARY:Center for the Inland Bays Family Workshop: Magnificent Monarchs
DESCRIPTION:What's the difference between butterflies and moths? Learn about how these animals are different and why many people easily confuse the two. Then\, participants will closely examine the monarch butterfly and learn about what makes it a magnificent visitor in your garden. The program will also include a take-home project to help people bring their new knowledge & skills back to their own gardens!\n\nPlease note: These programs are fun for all-ages and are designed for parents & grandparents to learn alongside their children. A parent or guardian must remain with their children throughout the program.\n\nThe suggested donation for this event is $20 per group. Donations are nonrefundable. All proceeds benefit the Delaware Center for the Inland Bays.\n\nQuestions? Please contact Maddie Fox\, Environmental Education Specialist\, at mfox@inlandbays.org\n\nClick here to register!
X-ALT-DESC;FMTTYPE=text/html:<h5><big>What&rsquo\;s the difference between butterflies and moths? Learn about how these animals are different and why many people easily confuse the two. Then\, participants will closely examine the monarch butterfly and learn about what makes it a magnificent visitor in your garden. The program will also include a take-home project to help people bring their new knowledge &amp\; skills back to their own gardens!</big></h5>\n\n<h5><big>Please note: These programs are fun for all-ages and are designed for parents &amp\; grandparents to learn alongside their children. A parent or guardian must remain with their children throughout the program.<br />\nThe suggested donation for this event is $20 per group. Donations are nonrefundable. All proceeds benefit the Delaware Center for the Inland Bays.</big></h5>\n\n<h5><big>Questions? Please contact Maddie Fox\, Environmental Education Specialist\, at&nbsp\;mfox@inlandbays.org</big></h5>\n\n<h5><big><a href="https://www.eventbrite.com/e/580888742867" style="box-sizing: border-box\; background-color: transparent\; border-bottom: 1px solid currentcolor\; text-decoration-line: none\; color: rgb(28\, 30\, 31) !important\;"><strong>Click here to register!</strong></a></big></h5>\n
LOCATION:Inland Bays Garden Center 38320 Muddy Neck Rd\, Frankford\, DE\, 19945
UID:e.2126.26143
SEQUENCE:3
DTSTAMP:20260420T230801Z
URL:http://business.thequietresorts.com/events/details/center-for-the-inland-bays-family-workshop-magnificent-monarchs-07-11-2023-26143
END:VEVENT

END:VCALENDAR
