BEGIN:VCALENDAR
VERSION:2.0
PRODID:-//ChamberMaster//Event Calendar 2.0//EN
METHOD:PUBLISH
X-PUBLISHED-TTL:P3D
REFRESH-INTERVAL:P3D
CALSCALE:GREGORIAN
BEGIN:VEVENT
DTSTART:20230725T140000Z
DTEND:20230725T160000Z
X-MICROSOFT-CDO-ALLDAYEVENT:FALSE
SUMMARY:Center for Inland Bays Family Workshop: Birding – Feeder Frenzy
DESCRIPTION:Do you know what birds eat? Learn about how birds disperse seeds\, pollinate plants\, and more! Explore the Garden Center searching for different types of birds and some of their favorite snacks\, like caterpillars! The program will also include a take-home project to help people bring their new knowledge & skills back to their own gardens!\n\nPlease note: These programs are fun for all-ages and are designed for parents & grandparents to learn alongside their children. A parent or guardian must remain with their children throughout the program.\n\nThe suggested donation for this event is $20 per group. Donations are nonrefundable. All proceeds benefit the Delaware Center for the Inland Bays.\n\nQuestions? Please contact Maddie Fox\, Environmental Education Specialist\, at mfox@inlandbays.org\n\nClick here to register!
X-ALT-DESC;FMTTYPE=text/html:<h5>Do you know what birds eat? Learn about how birds disperse seeds\, pollinate plants\, and more! Explore the Garden Center searching for different types of birds and some of their favorite snacks\, like caterpillars! The program will also include a take-home project to help people bring their new knowledge &amp\; skills back to their own gardens!</h5>\n\n<h5>Please note: These programs are fun for all-ages and are designed for parents &amp\; grandparents to learn alongside their children. A parent or guardian must remain with their children throughout the program.</h5>\n\n<h5>The suggested donation for this event is $20 per group. Donations are nonrefundable. All proceeds benefit the Delaware Center for the Inland Bays.</h5>\n\n<h5>Questions? Please contact Maddie Fox\, Environmental Education Specialist\, at&nbsp\;mfox@inlandbays.org</h5>\n\n<h5><strong><a href="https://www.eventbrite.com/e/580902363607" style="box-sizing: border-box\; background-color: transparent\; border-bottom: 1px solid currentcolor\; text-decoration-line: none\; color: rgb(28\, 30\, 31) !important\;">Click here to register!</a></strong></h5>\n
LOCATION:Inland Bays Garden Center 38320 Muddy Neck Rd\, Frankford\, DE\, 19945
UID:e.2126.26145
SEQUENCE:3
DTSTAMP:20260420T230812Z
URL:http://business.thequietresorts.com/events/details/center-for-inland-bays-family-workshop-birding-feeder-frenzy-26145
END:VEVENT

END:VCALENDAR
