BEGIN:VCALENDAR
VERSION:2.0
PRODID:-//ChamberMaster//Event Calendar 2.0//EN
METHOD:PUBLISH
X-PUBLISHED-TTL:P3D
REFRESH-INTERVAL:P3D
CALSCALE:GREGORIAN
BEGIN:VEVENT
DTSTART:20230810T233000Z
DTEND:20230811T003000Z
X-MICROSOFT-CDO-ALLDAYEVENT:FALSE
SUMMARY:Celtic to Classical 2023
DESCRIPTION:Ya-Jhu Yang (flute and piano) and Sheridan Seyfried (violin and piano) will be joined by their colleagues for a lively\, engaging 60-minute concert. A free-will offering is taken in lieu of ticketed admission. Seating is first-come\, first-served.
X-ALT-DESC;FMTTYPE=text/html:<span style="color:rgb(0\, 0\, 0)">Ya-Jhu Yang (flute and piano) and Sheridan Seyfried (violin and piano) will be joined by their colleagues for a lively\, engaging 60-minute concert. A free-will offering is taken in lieu of ticketed admission. Seating is first-come\, first-served.</span>
LOCATION:St. Martha's Episcopal Church 117 Maplewood Street Bethany Beach\, DE 19930
UID:e.2126.26407
SEQUENCE:3
DTSTAMP:20260420T212156Z
URL:http://business.thequietresorts.com/events/details/celtic-to-classical-2023-26407
END:VEVENT

END:VCALENDAR
