BEGIN:VCALENDAR
VERSION:2.0
PRODID:-//ChamberMaster//Event Calendar 2.0//EN
METHOD:PUBLISH
X-PUBLISHED-TTL:P3D
REFRESH-INTERVAL:P3D
CALSCALE:GREGORIAN
BEGIN:VEVENT
DTSTART:20260501T190000Z
DTEND:20260501T200000Z
X-MICROSOFT-CDO-ALLDAYEVENT:FALSE
SUMMARY:Celtic Music Concert with Willow Tree at South Coastal Library
DESCRIPTION:Join the South Coastal Library in Bethany Beach for a free 1-hour concert featuring Celtic tunes with the Willow Tree Quartet. Enjoy both authentic Irish and Scottish music.
X-ALT-DESC;FMTTYPE=text/html:<span style="font-family:arial\;"><span style="font-size: 16px\;">Join the South Coastal Library in Bethany Beach for a free 1-hour concert featuring Celtic tunes with the Willow Tree Quartet. Enjoy both&nbsp\;authentic Irish and Scottish music.&nbsp\;</span></span>
LOCATION:
UID:e.2126.43679
SEQUENCE:3
DTSTAMP:20260425T103657Z
URL:http://business.thequietresorts.com/events/details/celtic-music-concert-with-willow-tree-at-south-coastal-library-43679
END:VEVENT

END:VCALENDAR
