BEGIN:VCALENDAR
VERSION:2.0
PRODID:-//ChamberMaster//Event Calendar 2.0//EN
METHOD:PUBLISH
X-PUBLISHED-TTL:P3D
REFRESH-INTERVAL:P3D
CALSCALE:GREGORIAN
BEGIN:VEVENT
DTSTART:20230511T180000Z
DTEND:20230511T200000Z
X-MICROSOFT-CDO-ALLDAYEVENT:FALSE
SUMMARY:Celebration of Older American Month
DESCRIPTION:South Coastal Village Volunteers will celebrate Older American Month\, with its theme of Aging Unbound\, on Thursday\, May 11. We will host an ice cream social at John West Park in Ocean View from 2- 4 PM. In addition to members and volunteers\, we welcome community members who would like to pay tribute to the older adults. This will be an opportunity for people to stop by to meet us and learn who we are and what we do. In addition to treats and music\, we will offer information on SCVV.
X-ALT-DESC;FMTTYPE=text/html:<span style="font-size:14px\;"><span style="font-family:arial\;">South Coastal Village Volunteers will celebrate Older American Month\, with its theme of Aging Unbound\, on Thursday\, May 11. We will host an ice cream social at John West Park in Ocean View from 2- 4 PM. In addition to members and volunteers\, we welcome community members who would like to pay tribute to the older adults. This will be an opportunity for people to stop by to meet us and learn who we are and what we do. In addition to treats and music\, we will offer information on SCVV.</span></span><br />\n&nbsp\;
LOCATION:John West Park\, Ocean View
UID:e.2126.25565
SEQUENCE:3
DTSTAMP:20260421T024047Z
URL:http://business.thequietresorts.com/events/details/celebration-of-older-american-month-25565
END:VEVENT

END:VCALENDAR
