BEGIN:VCALENDAR
VERSION:2.0
PRODID:-//ChamberMaster//Event Calendar 2.0//EN
METHOD:PUBLISH
X-PUBLISHED-TTL:P3D
REFRESH-INTERVAL:P3D
CALSCALE:GREGORIAN
BEGIN:VEVENT
DTSTART:20200711T140000Z
DTEND:20200711T150000Z
X-MICROSOFT-CDO-ALLDAYEVENT:FALSE
SUMMARY:Cascading Carlos\, the Juggler
DESCRIPTION:Cascading Carlos is not a clown or magician\, he is a juggler\; nonetheless\, he clowns around and has a lot of illusions in his juggling show. You will be amazed by his juggling skills\, while he teaches you how to juggle. His talent to motivate you through juggling will help you build your self-esteem\, confidence and focus.\n\n\n\nGuinness World Record Title Holder- Carlos has achieved a milestone on November 18\, 2017\, receiving his official Guinness World Record certificate for throwing a diabolo 78.5 feet high and catching it (a diabolo is a popular juggling prop also known as a Chinese yoyo).
X-ALT-DESC;FMTTYPE=text/html:<span style="font-family: arial\;"><span style="font-size: 14px\;">Cascading Carlos is not a clown or magician\, he is a juggler\; nonetheless\, he clowns around and has a lot of illusions in his juggling show. You will be amazed by his juggling skills\, while he teaches you how to juggle. His talent to motivate you through juggling will help you build your self-esteem\, confidence and focus.<br />\n<br />\nGuinness World Record Title Holder- Carlos has achieved a milestone on November 18\, 2017\, receiving his official Guinness World Record certificate for throwing a diabolo 78.5 feet high and catching it (a diabolo is a popular juggling prop also known as a Chinese yoyo).</span></span>
LOCATION:The Freeman Stage 31750 Lake View Drive Selbyville\, DE 19975
UID:e.2126.21688
SEQUENCE:3
DTSTAMP:20260425T163120Z
URL:http://business.thequietresorts.com/events/details/cascading-carlos-the-juggler-21688
END:VEVENT

END:VCALENDAR
