BEGIN:VCALENDAR
VERSION:2.0
PRODID:-//ChamberMaster//Event Calendar 2.0//EN
METHOD:PUBLISH
X-PUBLISHED-TTL:P3D
REFRESH-INTERVAL:P3D
CALSCALE:GREGORIAN
BEGIN:VEVENT
DTSTART:20191208T000000Z
DTEND:20191208T040000Z
X-MICROSOFT-CDO-ALLDAYEVENT:FALSE
SUMMARY:Caribbean Christmas at Mango's
DESCRIPTION:AMAZINGLY AWESOME AUCTION\, RAFFLE ($5 A CHANCE) AND 50/50!\n \n\nFabulous local art and great gifts donated by area artists\, businesses and individuals along with food and beverages donated by local restaurants.\n\nSAMPLE TASTINGS FROM LOCAL RESTAURANTS\, WINE\, BEER\, AND MANGO MARGARITAS ALL INCLUDED!\n\nAdmission is a $65 donation per person. Proceeds benefit the Quiet Resorts Charitable Foundation (QRCF) which provides grants and scholarships to improve life in our community as well as grants to this year's featured beneficiaries. Must be 21 years or older to attend. Please click here to learn more!
X-ALT-DESC;FMTTYPE=text/html:<span style="font-size: 14px\;"><span style="font-family: arial\;"><span style="text-align: left\; color: rgba(28\, 28\, 28\, 0.8)\; text-transform: none\; text-indent: 0px\; letter-spacing: normal\; font-style: normal\; font-weight: 400\; word-spacing: 0px\; float: none\; display: inline !important\; white-space: normal\; orphans: 2\; widows: 2\; background-color: rgb(255\, 255\, 255)\; font-variant-ligatures: normal\; font-variant-caps: normal\; -webkit-text-stroke-width: 0px\; text-decoration-style: initial\; text-decoration-color: initial\;">AMAZINGLY AWESOME AUCTION\, RAFFLE ($5 A CHANCE) AND 50/50!</span></span></span>\n<p style="margin: 0px 0px 10px\; text-align: left\; color: rgba(28\, 28\, 28\, 0.8)\; text-transform: none\; line-height: 1.7\; text-indent: 0px\; letter-spacing: normal\; font-family: Georgia\, serif\; font-size: 16px\; font-style: normal\; font-weight: 400\; word-spacing: 0px\; white-space: normal\; box-sizing: inherit\; orphans: 2\; widows: 2\; background-color: rgb(255\, 255\, 255)\; font-variant-ligatures: normal\; font-variant-caps: normal\; -webkit-text-stroke-width: 0px\; text-decoration-style: initial\; text-decoration-color: initial\; overflow-wrap: break-word\;">&nbsp\;</p>\n\n<p style="margin: 0px 0px 10px\; text-align: left\; color: rgba(28\, 28\, 28\, 0.8)\; text-transform: none\; line-height: 1.7\; text-indent: 0px\; letter-spacing: normal\; font-family: Georgia\, serif\; font-size: 16px\; font-style: normal\; font-weight: 400\; word-spacing: 0px\; white-space: normal\; box-sizing: inherit\; orphans: 2\; widows: 2\; background-color: rgb(255\, 255\, 255)\; font-variant-ligatures: normal\; font-variant-caps: normal\; -webkit-text-stroke-width: 0px\; text-decoration-style: initial\; text-decoration-color: initial\; overflow-wrap: break-word\;"><span style="font-size: 14px\;"><span style="font-family: arial\;">Fabulous local art and great gifts donated by area artists\, businesses and individuals along with food and beverages donated by local restaurants.</span></span></p>\n\n<p style="margin: 0px 0px 10px\; text-align: left\; color: rgba(28\, 28\, 28\, 0.8)\; text-transform: none\; line-height: 1.7\; text-indent: 0px\; letter-spacing: normal\; font-family: Georgia\, serif\; font-size: 16px\; font-style: normal\; font-weight: 400\; word-spacing: 0px\; white-space: normal\; box-sizing: inherit\; orphans: 2\; widows: 2\; background-color: rgb(255\, 255\, 255)\; font-variant-ligatures: normal\; font-variant-caps: normal\; -webkit-text-stroke-width: 0px\; text-decoration-style: initial\; text-decoration-color: initial\; overflow-wrap: break-word\;"><span style="font-size: 14px\;"><span style="font-family: arial\;">SAMPLE TASTINGS FROM LOCAL RESTAURANTS\, WINE\, BEER\, AND MANGO MARGARITAS ALL INCLUDED!</span></span></p>\n\n<p style="margin: 0px 0px 10px\; text-align: left\; color: rgba(28\, 28\, 28\, 0.8)\; text-transform: none\; line-height: 1.7\; text-indent: 0px\; letter-spacing: normal\; font-family: Georgia\, serif\; font-size: 16px\; font-style: normal\; font-weight: 400\; word-spacing: 0px\; white-space: normal\; box-sizing: inherit\; orphans: 2\; widows: 2\; background-color: rgb(255\, 255\, 255)\; font-variant-ligatures: normal\; font-variant-caps: normal\; -webkit-text-stroke-width: 0px\; text-decoration-style: initial\; text-decoration-color: initial\; overflow-wrap: break-word\;"><span style="font-size: 14px\;"><span style="font-family: arial\;">Admission is a $65 donation per person. Proceeds benefit the Quiet Resorts Charitable Foundation (QRCF) which provides grants and scholarships to improve life in our community as well as grants to this year&rsquo\;s featured beneficiaries. Must be 21 years or older to attend. Please <strong><a href="https://qrcf.org/event/caribbean-christmas-mangos/" target="_blank">click here</a></strong> to learn more!</span></span></p>\n
LOCATION:Mango's 97 Garfield Parkway Bethany Beach\, DE 19930
UID:e.2126.18401
SEQUENCE:3
DTSTAMP:20260426T034424Z
URL:http://business.thequietresorts.com/events/details/caribbean-christmas-at-mango-s-18401
END:VEVENT

END:VCALENDAR
