BEGIN:VCALENDAR
VERSION:2.0
PRODID:-//ChamberMaster//Event Calendar 2.0//EN
METHOD:PUBLISH
X-PUBLISHED-TTL:P3D
REFRESH-INTERVAL:P3D
CALSCALE:GREGORIAN
BEGIN:VEVENT
DTSTART:20220223T230000Z
DTEND:20220224T010000Z
X-MICROSOFT-CDO-ALLDAYEVENT:FALSE
SUMMARY:Career & Trade Fair
DESCRIPTION:Students can meet with over 40 local businesses that offer career and trade opportunites without them having to earn a four-year degree.\n\n\n\nParticipating Busineses: \n\nSchell Brothers- Mountaire Farms- Hooked Restaurant Group- Custom Mechanical- Delaware Department of Correction- East Coast Campers & More- Trick Trucks- Bethany Blooms- A & A Companies- Megee Motors- Sea Colony Fitness Center- Preston Automotive- Indian River School District- Bayside Resort GC- Zicherheit Security- State Farm- Wawa- RSC Landscaping- G&E/Hockers- SoDel Concepts- Cadia Healthcare Renaissance- Delaware Department of Transportation- Blades HVAC- Envirotech Environmental Consulting- Vector Security- So. DE Ed. Board- Crystal Steel Fabricators- Candy Kitchen- Keller Williams Realty- Expert Wire- Parent Info Center- PNC Bank- Coldwell Banker- Cheer Center- Lowes- DE State Police- Sussex Tech Adult Ed- DE Air Nat'l Guard- DE Army Nat'l Guard- Navy Reserves- Bethany-Fenwick Area Chamber of Commerce- Dogfish Head- Bethany Beach Police
X-ALT-DESC;FMTTYPE=text/html:<font face="arial">Students can meet with over 40 local businesses that offer career and trade opportunites without them having to earn a four-year degree.</font><br />\n<br />\nParticipating Busineses:&nbsp\;<br />\n<span style="font-size:12px\;">Schell Brothers- Mountaire Farms- Hooked Restaurant Group- Custom Mechanical- Delaware Department of Correction- East Coast Campers &amp\; More- Trick Trucks- Bethany Blooms- A &amp\; A Companies- Megee Motors- Sea Colony Fitness Center- Preston Automotive- Indian River School District- Bayside Resort GC- Zicherheit Security- State Farm- Wawa- RSC Landscaping- G&amp\;E/Hockers- SoDel Concepts- Cadia Healthcare Renaissance- Delaware Department of Transportation- Blades HVAC- Envirotech Environmental Consulting- Vector Security- So. DE Ed. Board- Crystal Steel Fabricators- Candy Kitchen- Keller Williams Realty- Expert Wire- Parent Info Center- PNC Bank- Coldwell Banker- Cheer Center- Lowes- DE State Police- Sussex Tech Adult Ed- DE Air Nat&rsquo\;l Guard- DE Army Nat&rsquo\;l Guard- Navy Reserves- Bethany-Fenwick Area&nbsp\;Chamber of Commerce- Dogfish Head- Bethany Beach Police</span><br />\n&nbsp\;
LOCATION:Indian River High School 29772 Armory Rd\, Dagsboro\, DE 19939
UID:e.2126.23477
SEQUENCE:3
DTSTAMP:20260424T054734Z
URL:http://business.thequietresorts.com/events/details/career-trade-fair-23477
END:VEVENT

END:VCALENDAR
