BEGIN:VCALENDAR
VERSION:2.0
PRODID:-//ChamberMaster//Event Calendar 2.0//EN
METHOD:PUBLISH
X-PUBLISHED-TTL:P3D
REFRESH-INTERVAL:P3D
CALSCALE:GREGORIAN
BEGIN:VEVENT
DTSTART:20240322T200000Z
DTEND:20240322T213000Z
X-MICROSOFT-CDO-ALLDAYEVENT:FALSE
SUMMARY:Captain's Quarters Arcade & Go Karts Grand Opening Ribbon Cutting
DESCRIPTION:Join the Bethany-Fenwick Area Chamber of Commerce at Captain's Quarters Arcade and Go Karts on Friday\, March 22nd\, for a grand opening ribbon cutting!  The event will start at 4:00PM with the ribbon to be cut at 4:30PM. \n\n\n\nTo celebrate\, Captain's Quarters will be offering free go kart rides from 4:00 - 7:00PM on Friday\, March 22nd\, with suggested donations benefiting the John M. Clayton Elementary School PTO!  To keep the celebration going all weekend\, go kart rides will only be $5 on Saturday and Sunday\, the 23rd - 24th!\n\n\n\nStop by at the end of your workday or bring the family for some early spring fun!  There will be refreshments provided\, a raffle you won't want to miss\, special appearances by Spongebob and Bluey\, face painting\, and hair tinsel!
X-ALT-DESC;FMTTYPE=text/html:Join the Bethany-Fenwick Area Chamber of Commerce at Captain&#39\;s Quarters Arcade and Go Karts on Friday\, March 22nd\, for a grand opening ribbon cutting!&nbsp\; The event will start at 4:00PM with the ribbon to be cut at 4:30PM.&nbsp\;<br />\n<br />\nTo celebrate\, Captain&#39\;s Quarters will be offering free go kart rides from 4:00 - 7:00PM on Friday\, March 22nd\, with suggested donations benefiting the John M. Clayton Elementary School PTO!&nbsp\; To keep the celebration going all weekend\, go kart rides will only be $5 on Saturday and Sunday\, the 23rd - 24th!<br />\n<br />\nStop by at the end of your workday or bring the family for some early spring fun!&nbsp\; There will be refreshments provided\, a raffle you won&#39\;t want to miss\, special appearances by Spongebob and Bluey\, face painting\, and hair tinsel!
LOCATION:Captain's Quarters Arcade and Go Karts 35291 Atlantic Ave. Millville\, DE 19967
UID:e.2126.28392
SEQUENCE:3
DTSTAMP:20260420T074145Z
URL:http://business.thequietresorts.com/events/details/captain-s-quarters-arcade-go-karts-grand-opening-ribbon-cutting-28392
END:VEVENT

END:VCALENDAR
