BEGIN:VCALENDAR
VERSION:2.0
PRODID:-//ChamberMaster//Event Calendar 2.0//EN
METHOD:PUBLISH
X-PUBLISHED-TTL:P3D
REFRESH-INTERVAL:P3D
CALSCALE:GREGORIAN
BEGIN:VEVENT
DTSTART:20230423T200000Z
DTEND:20230423T210000Z
X-MICROSOFT-CDO-ALLDAYEVENT:FALSE
SUMMARY:Capital Ringers
DESCRIPTION:Capital Ringers presents\, "I Got Rhythm"\, inspired by George Gershwin. \n\nTickets: $20
X-ALT-DESC;FMTTYPE=text/html:Capital Ringers presents\, &quot\;I Got Rhythm&quot\;\, inspired by George Gershwin.&nbsp\;<br />\nTickets: $20
LOCATION:St. Martha's Episcopal Church
UID:e.2126.25299
SEQUENCE:3
DTSTAMP:20260421T040354Z
URL:http://business.thequietresorts.com/events/details/capital-ringers-25299
END:VEVENT

END:VCALENDAR
