BEGIN:VCALENDAR
VERSION:2.0
PRODID:-//ChamberMaster//Event Calendar 2.0//EN
METHOD:PUBLISH
X-PUBLISHED-TTL:P3D
REFRESH-INTERVAL:P3D
CALSCALE:GREGORIAN
BEGIN:VEVENT
DTSTART:20230513T130000Z
DTEND:20230513T210000Z
X-MICROSOFT-CDO-ALLDAYEVENT:FALSE
SUMMARY:Cape Gazette Inaugural Run & Fun Fest
DESCRIPTION:Cape Gazette Inaugural Run & Fun Fest\, 9 a.m. to 5 p.m.\, Nassau Commons Blvd.\, Lewes. Benefits Harry K Foundation. 5K through Nassau Valley Vineyards\, Lewes-Georgetown Trail with awards and post-race party\, beer garden by Crooked Hammock\, vineyard tours & tastings\, food trucks\, live music by Kyle Offidani and Spokey Speaky\, pickleball tournament\, petting zoo\, pony rides\, giveaways\, touch-a-truck\, rain or shine. To register for 5K\, or for information go to cgextra.com/runandfunfest.
X-ALT-DESC;FMTTYPE=text/html:Cape Gazette Inaugural Run &amp\; Fun Fest\, 9 a.m. to 5 p.m.\, Nassau Commons Blvd.\, Lewes. Benefits Harry K Foundation. 5K through Nassau Valley Vineyards\, Lewes-Georgetown Trail with awards and post-race party\, beer garden by Crooked Hammock\, vineyard tours &amp\; tastings\, food trucks\, live music by Kyle Offidani and Spokey Speaky\, pickleball tournament\, petting zoo\, pony rides\, giveaways\, touch-a-truck\, rain or shine. To register for 5K\, or for information go to cgextra.com/runandfunfest.
LOCATION:Nassau Commons\, Nassau Commons Blvd.\, Lewes.
UID:e.2126.25326
SEQUENCE:3
DTSTAMP:20260421T023847Z
URL:http://business.thequietresorts.com/events/details/cape-gazette-inaugural-run-fun-fest-25326
END:VEVENT

END:VCALENDAR
