BEGIN:VCALENDAR
VERSION:2.0
PRODID:-//ChamberMaster//Event Calendar 2.0//EN
METHOD:PUBLISH
X-PUBLISHED-TTL:P3D
REFRESH-INTERVAL:P3D
CALSCALE:GREGORIAN
BEGIN:VEVENT
DTSTART:20220911T113000Z
DTEND:20220911T160000Z
X-MICROSOFT-CDO-ALLDAYEVENT:FALSE
SUMMARY:Cannonball 5K Run & Trenny Elliott Memorial Walk
DESCRIPTION:"The Most Beautiful Racecourse in Delaware"...The Lewes Historical Society is holding the 18th Cannonball 5K Run & Trenny Elliott Memorial Walk on September 11\, 2022. This annual event benefits the Society's preservation and educational programming. Designed to be a tour of historic Lewes\, the course includes breath-taking scenery along Pilottown Road and views of the Great Marsh\, Shipcarpenter Square\, Second Street\, and the Lewes & Rehoboth Canal. A description of the historic sites along the race route is included in your registration papers.
X-ALT-DESC;FMTTYPE=text/html:&quot\;The Most Beautiful Racecourse in Delaware&quot\;...The Lewes Historical Society is holding the 18th Cannonball 5K Run &amp\; Trenny Elliott Memorial Walk on September 11\, 2022. This annual event benefits the Society&#39\;s preservation and educational programming. Designed to be a tour of historic Lewes\, the course includes breath-taking scenery along Pilottown Road and views of the Great Marsh\, Shipcarpenter Square\, Second Street\, and the Lewes &amp\; Rehoboth Canal. A description of the historic sites along the race route is included in your registration papers.
LOCATION:Lewes Historical Society 110 Shipcarpenter Street
UID:e.2126.23846
SEQUENCE:3
DTSTAMP:20260421T173349Z
URL:http://business.thequietresorts.com/events/details/cannonball-5k-run-trenny-elliott-memorial-walk-23846
END:VEVENT

END:VCALENDAR
