BEGIN:VCALENDAR
VERSION:2.0
PRODID:-//ChamberMaster//Event Calendar 2.0//EN
METHOD:PUBLISH
X-PUBLISHED-TTL:P3D
REFRESH-INTERVAL:P3D
CALSCALE:GREGORIAN
BEGIN:VEVENT
DTSTART:20200317T120000Z
DTEND:20200317T140000Z
X-MICROSOFT-CDO-ALLDAYEVENT:FALSE
SUMMARY:CANCELLED Connect for Coffee: March 2020 - Bayside Welcome Center
DESCRIPTION:THIS EVENT HAS BEEN CANCELLED \n\n\n\nDon't miss the March 2020 Connect for Coffee at the Bayside Welcome Center!  Chamber and community members alike are invited to join for a morning of networking. Whether you have five minutes or two hours in your schedule\, drop in\, have a cup of coffee and start your morning growing your connections.This event is FREE and open to the public\, so bring a friend! RSVP is not required.
X-ALT-DESC;FMTTYPE=text/html:<span style="font-family: century gothic\,sans-serif\;"><span style="font-size: 14px\;"><span style="font-family: arial\;"><strong><span style="color:#FF0000\;"><em>THIS EVENT HAS BEEN CANCELLED&nbsp\;</em></span></strong></span></span></span><br />\n<br />\n<span><span style="font-family: century gothic\,sans-serif\;"><span style="font-size: 14px\;"><span style="font-family: arial\;">Don&#39\;t miss the March 2020 Connect for Coffee </span></span></span></span><span><span style="font-family: century gothic\,sans-serif\;"><span style="font-size: 14px\;"><span style="font-family: arial\;">at the Bayside Welcome Center!&nbsp\; Chamber and community members alike are invited to join for a morning of networking.&nbsp\;</span></span></span></span><span><span style="font-family: century gothic\,sans-serif\;"><span style="font-size: 14px\;"><span style="font-family: arial\;">Whether you have five minutes or two hours in your schedule\, drop in\, have a cup of coffee&nbsp\;and start your morning growing your connections.<strong>This event is FREE and open to the public\, so bring a friend!</strong>&nbsp\;RSVP is not required.</span></span></span></span>
LOCATION:Bayside Welcome Center 31252 Americana Pkwy Selbyville\, DE 19975
UID:e.2126.20141
SEQUENCE:3
DTSTAMP:20260425T225232Z
URL:http://business.thequietresorts.com/events/details/cancelled-connect-for-coffee-march-2020-bayside-welcome-center-20141
END:VEVENT

END:VCALENDAR
