BEGIN:VCALENDAR
VERSION:2.0
PRODID:-//ChamberMaster//Event Calendar 2.0//EN
METHOD:PUBLISH
X-PUBLISHED-TTL:P3D
REFRESH-INTERVAL:P3D
CALSCALE:GREGORIAN
BEGIN:VEVENT
DTSTART:20200325T210000Z
DTEND:20200325T230000Z
X-MICROSOFT-CDO-ALLDAYEVENT:FALSE
SUMMARY:CANCELLED Business After Hours: March 2020 - Big Fish Grill
DESCRIPTION:THIS EVENT HAS BEEN CANCELLED\n\n\n\nBusiness After Hours is bigger and better than ever in 2020. So\, join us this month at the Big Fish Grill  - Ocean View to sample culinary delights from the menu\, network in an energetic atmosphere and take advantage of promoting your business. Bring a door prize to promote your business with fellow Chamber members -- and don't forget your business cards for your chance to win!\n\n\n\nSpotlight Table:  The Freeman Stage\n\nSpotlight Table:  Heather's Home Works\n\n50/50 Raffle Beneficiary:   \n\n\n\nInterested in hosting a networking event\, or learning how you can become a member spotlight at future Business After Hours? \n\nContact Fred at fred@bethany-fenwick.org or 302-539-2100.\n\n \n\n\n\nAs a courtesy to our host\, a RSVP is highly encouraged.
X-ALT-DESC;FMTTYPE=text/html:<span style="font-size: 14px\;"><span style="font-family: arial\;"><em><strong><span style="color:#FF0000\;">THIS EVENT HAS BEEN CANCELLED</span></strong></em><br />\n<br />\nBusiness After Hours is bigger and better than ever in 2020. So\, join us this month at the <b><i>Big Fish Grill&nbsp\; - Ocean View&nbsp\;</i></b>to sample culinary delights from the menu\, network in an energetic atmosphere and take advantage&nbsp\;of promoting your business. Bring a door prize to promote your business with fellow Chamber members -- and don&#39\;t forget your business cards for your chance to win!</span></span><br />\n<br />\n<span style="color: rgb(51\, 51\, 51)\; font-family: sans-serif\, Arial\, Verdana\, &quot\;Trebuchet MS&quot\;\; font-size: 14px\;"><span style="font-family: arial\;">Spotlight Table:&nbsp\; The Freeman Stage<br />\nSpotlight Table:&nbsp\; Heather&#39\;s Home Works<br />\n50/50 Raffle Beneficiary:&nbsp\;&nbsp\;</span></span><span style="color: rgb(51\, 51\, 51)\; font-family: &quot\;Helvetica Neue&quot\;\, Helvetica\, Arial\, sans-serif\; font-size: 15px\; background-color: rgb(255\, 255\, 255)\;">&nbsp\;</span><br style="color: rgb(51\, 51\, 51)\; font-family: sans-serif\, Arial\, Verdana\, &quot\;Trebuchet MS&quot\;\; font-size: 13px\;" />\n<br style="color: rgb(51\, 51\, 51)\; font-family: sans-serif\, Arial\, Verdana\, &quot\;Trebuchet MS&quot\;\; font-size: 13px\;" />\n<span style="color: rgb(51\, 51\, 51)\; font-family: sans-serif\, Arial\, Verdana\, &quot\;Trebuchet MS&quot\;\; font-size: 14px\;"><span style="font-family: arial\;"><strong>Interested in hosting a networking event\, or learning how you can become a member spotlight at future Business After Hours?&nbsp\;</strong><br />\nContact Fred at fred@bethany-fenwick.org or 302-539-2100.</span></span><br />\n<span style="font-size: 14px\;"><span style="font-family: arial\;">&nbsp\;<br />\n<br />\n<span>As a courtesy to our host\, a RSVP is highly encouraged.</span></span></span>
LOCATION:Big Fish Grill 30415 Cedar Neck Rd. Ocean View\, DE 19970
UID:e.2126.19682
SEQUENCE:3
DTSTAMP:20260425T225415Z
URL:http://business.thequietresorts.com/events/details/cancelled-business-after-hours-march-2020-big-fish-grill-19682
END:VEVENT

END:VCALENDAR
