BEGIN:VCALENDAR
VERSION:2.0
PRODID:-//ChamberMaster//Event Calendar 2.0//EN
METHOD:PUBLISH
X-PUBLISHED-TTL:P3D
REFRESH-INTERVAL:P3D
CALSCALE:GREGORIAN
BEGIN:VEVENT
DTSTART:20220809T220000Z
DTEND:20220810T000000Z
X-MICROSOFT-CDO-ALLDAYEVENT:FALSE
SUMMARY:CANCELED TONIGHT DUE TO HEAT ADVISORY - Holts Landing State Park - Family Fun Nite & Free Summer Concerts in the Park
DESCRIPTION:CONCERT CANCELED TONIGHT DUE TO HEAT ADVISORY - FAMILY FUN NIGHT IS RESCHEDULED FOR AUGUST 16th.\n\n\n\nHolts Landing State Park \n\n2022 Free Summer Concerts in the Park\n\n\n\nFamily Fun Night\n\nPerforming: Short Term Memories Classic Rock - 50s-80s\n\n\n\nFamily Fun Nites - Food by the Inland Bays Foundation\n\nDr. Dennis Bartow (center for the Inland Bays) leads hands on fish & critters identification for kids of all ages.
X-ALT-DESC;FMTTYPE=text/html:<span style="color:#FF0000\;"><strong>CONCERT CANCELED TONIGHT DUE TO HEAT ADVISORY - FAMILY FUN NIGHT IS RESCHEDULED FOR AUGUST 16th.</strong></span><br />\n<br />\nHolts Landing State Park&nbsp\;<br />\n2022 Free Summer Concerts in the Park<br />\n<br />\n<span style="font-size:14px\;"><em><strong>Family Fun Night<br />\nPerforming: Short Term Memories Classic Rock - 50s-80s<br />\n<br />\nFamily Fun Nites - Food by the Inland Bays Foundation<br />\nDr. Dennis Bartow (center for the Inland Bays) leads hands on fish &amp\; critters identification for kids of all ages.</strong></em></span><br />\n<br />\n&nbsp\;
LOCATION:Holts Landing Road Park 39415 Inlet Rd.\, Rehoboth Beach\, Dagsboro\, DE 19939
UID:e.2126.23783
SEQUENCE:3
DTSTAMP:20260421T205436Z
URL:http://business.thequietresorts.com/events/details/canceled-tonight-due-to-heat-advisory-holts-landing-state-park-family-fun-nite-free-summer-concerts-in-the-park-23783
END:VEVENT

END:VCALENDAR
