BEGIN:VCALENDAR
VERSION:2.0
PRODID:-//ChamberMaster//Event Calendar 2.0//EN
METHOD:PUBLISH
X-PUBLISHED-TTL:P3D
REFRESH-INTERVAL:P3D
CALSCALE:GREGORIAN
BEGIN:VEVENT
DTSTART:20200429T120000Z
DTEND:20200429T130000Z
X-MICROSOFT-CDO-ALLDAYEVENT:FALSE
SUMMARY:CANCELED- "Small Business Retirement Plans" - Financial Literacy Month Workshop
DESCRIPTION:THIS EVENT HAS BEEN CANCELED\n\n\n\nThere is a myriad of retirement plan options available to small businesses and sole proprietors. Approximately 46% of Delaware's workforce does not have access to some type of retirement plan. Join Chamber Member\, Kyle Ricker\, of Merrill Lynch for an informational workshop on "Small Business Retirement". This workshop will review:\n\n	The type of programs available and the Pros & Cons of each\n	Explore initial set-up and ongoing costs\n	Employer & Employee Funding availability and obligations\n	The impacts of employee headcount\n	The power of matching funds\n	Annual IRS Filing Requirements (and none in some instances)\n	Accessibility to Funds (Employer & Employee) including vesting and penalties for early withdrawals\n\n\n\n\n\nNational Financial Literacy Month is recognized in the United States in an effort to highlight the importance of financial literacy and teach Americans how to establish and maintain healthy financial habits.
X-ALT-DESC;FMTTYPE=text/html:<span style="font-size:14px\;"><span style="font-family:arial\;"><strong><span style="color:#FF0000\;">THIS EVENT HAS BEEN CANCELED</span></strong><br />\n<br />\nThere is a myriad of retirement plan options available to small businesses and sole proprietors. Approximately 46% of Delaware&rsquo\;s workforce does not have access to some type of retirement plan. Join Chamber Member\, Kyle Ricker\, of Merrill Lynch for an informational workshop on &ldquo\;Small Business Retirement&rdquo\;. This workshop will review:</span></span>\n<ul>\n	<li><span style="font-size:14px\;"><span style="font-family:arial\;">The type of programs available and the Pros &amp\; Cons of each</span></span></li>\n	<li><span style="font-size:14px\;"><span style="font-family:arial\;">Explore initial set-up and ongoing costs</span></span></li>\n	<li><span style="font-size:14px\;"><span style="font-family:arial\;">Employer &amp\; Employee Funding availability and obligations</span></span></li>\n	<li><span style="font-size:14px\;"><span style="font-family:arial\;">The impacts of employee headcount</span></span></li>\n	<li><span style="font-size:14px\;"><span style="font-family:arial\;">The power of matching funds</span></span></li>\n	<li><span style="font-size:14px\;"><span style="font-family:arial\;">Annual IRS Filing Requirements (and none in some instances)</span></span></li>\n	<li><span style="font-size:14px\;"><span style="font-family:arial\;">Accessibility to Funds (Employer &amp\; Employee) including vesting and penalties for early withdrawals</span></span></li>\n</ul>\n<br />\n<br />\n<span style="font-size:14px\;"><span style="font-family:arial\;"><span style="color: rgb(34\, 34\, 34)\; background-color: rgb(255\, 255\, 255)\;">National Financial Literacy Month is recognized in the United States&nbsp\;in an effort to highlight the importance of financial literacy and teach Americans how to establish and maintain healthy financial habits.&nbsp\;&nbsp\;</span></span></span>
LOCATION:Bethany - Fenwick Area Chamber of Commerce 36913 Coastal Highway Fenwick Island\, DE 19944
UID:e.2126.20275
SEQUENCE:3
DTSTAMP:20260425T225510Z
URL:http://business.thequietresorts.com/events/details/canceled-small-business-retirement-plans-financial-literacy-month-workshop-20275
END:VEVENT

END:VCALENDAR
