BEGIN:VCALENDAR
VERSION:2.0
PRODID:-//ChamberMaster//Event Calendar 2.0//EN
METHOD:PUBLISH
X-PUBLISHED-TTL:P3D
REFRESH-INTERVAL:P3D
CALSCALE:GREGORIAN
BEGIN:VEVENT
DTSTART:20200408T120000Z
DTEND:20200408T130000Z
X-MICROSOFT-CDO-ALLDAYEVENT:FALSE
SUMMARY:CANCELED - "Preparing For Longevity" - Financial Literacy Month Workshop
DESCRIPTION:THIS EVENT HAS BEEN CANCELED\n\n\n\nOur life expectancy is increasing\, and the number of years we have in retirement are increasing. Today\, all  age groups will be living longer in retirement.  National Financial Literacy Month is recognized in the United States in an effort to highlight the importance of financial literacy and teach Americans how to establish and maintain healthy financial habits. As part of National Financial Literacy Month\,  Kyle Ricker of Merrill Lynch is hosting an informational seminar titled  "Preparing For Longevity" . This workshop will underscore increasing longevity as a main contributing factor to why participants should be planning for a retirement that lasts 30 years or more\, and how increased longevity brings with it many other risks.
X-ALT-DESC;FMTTYPE=text/html:<span style="font-size:14px\;"><span style="color:#FF0000\;"><span style="background-color: rgb(255\, 255\, 255)\;"><strong>THIS EVENT HAS BEEN CANCELED</strong></span></span><br />\n<br />\n<span style="color: rgb(34\, 34\, 34)\; background-color: rgb(255\, 255\, 255)\;">Our life expectancy is increasing\, and the number of years we have in retirement are increasing. Today\, all&nbsp\; age groups will be living longer in retirement.&nbsp\; National Financial Literacy Month is recognized in the United States&nbsp\;in an effort to highlight the importance of financial literacy and teach Americans how to establish and maintain healthy financial habits. As part of National Financial Literacy Month\,&nbsp\; Kyle Ricker of Merrill Lynch is hosting an informational seminar titled&nbsp\; &quot\;Preparing For Longevity&quot\; . This workshop will u</span>nderscore increasing longevity as a main contributing factor to why participants should be planning for a retirement that lasts 30 years or more\, and how increased longevity brings with it many other risks.&nbsp\;</span>
LOCATION:Bethany - Fenwick Area Chamber of Commerce 36913 Coastal Highway Fenwick Island\, DE 19944
UID:e.2126.20156
SEQUENCE:3
DTSTAMP:20260425T212343Z
URL:http://business.thequietresorts.com/events/details/canceled-preparing-for-longevity-financial-literacy-month-workshop-20156
END:VEVENT

END:VCALENDAR
