BEGIN:VCALENDAR
VERSION:2.0
PRODID:-//ChamberMaster//Event Calendar 2.0//EN
METHOD:PUBLISH
X-PUBLISHED-TTL:P3D
REFRESH-INTERVAL:P3D
CALSCALE:GREGORIAN
BEGIN:VEVENT
DTSTART:20200402T120000Z
DTEND:20200402T133000Z
X-MICROSOFT-CDO-ALLDAYEVENT:FALSE
SUMMARY:CANCELED Membership Meeting: April 2020 - Sussex County Insights
DESCRIPTION:THIS EVENT HAS BEEN CANCELED\n\n\n\nJoin us on April 2 \, 2020 for our Sussex County Update with Sussex County Administrator Todd Lawson.\n\n\n\nSussex County continues to experience tremendous growth which presents both opportunities and challenges. Spend your morning with Sussex County Administrator\, Todd Lawson\, to gain his insight and perspective as to the future of Sussex County   It will be followed up with a short Q&A session.\n\n\n\nRegistration is required to accommodate our host. The cost is $10 and includes breakfast. \n\n \n\nMembership Meetings are intended to increase awareness of what is happening in the business community. Whether a dynamic speaker\, an educational workshop or a true networking event\, Membership Meetings are long-standing traditions in serving as an informational platform for the business community. And\, to add to the excitement   breakfast will be served to get the morning started off right.
X-ALT-DESC;FMTTYPE=text/html:<span style="font-size: 14px\;"><span style="background: white\;"><span style="word-spacing: 0px\; orphans: 2\; widows: 2\; font-variant-ligatures: normal\; font-variant-caps: normal\; -webkit-text-stroke-width: 0px\; text-decoration-style: initial\;"><strong><em><span style="color:#FF0000\;">THIS EVENT HAS BEEN CANCELED</span></em></strong><br />\n<br />\nJoin us on April&nbsp\;</span></span></span><span style="font-size: 14px\; background-image: initial\; background-position: initial\; background-size: initial\; background-repeat: initial\; background-attachment: initial\; background-origin: initial\; background-clip: initial\;">2 \, 2020 for our Sussex County Update with Sussex County Administrator Todd Lawson.</span><br style="font-size: 14px\;" />\n<br style="font-size: 14px\;" />\n<span style="font-size: 14px\;">Sussex County continues to</span><span style="font-size: 14px\;"><span style="word-spacing: 0px\; orphans: 2\; widows: 2\; font-variant-ligatures: normal\; font-variant-caps: normal\; -webkit-text-stroke-width: 0px\; text-decoration-style: initial\;">&nbsp\;experience tremendous growth which presents both opportunities and challenges. Spend your morning with Sussex County Administrator\, Todd Lawson\, to gain his insight and perspective as to the future of Sussex County&nbsp\; &nbsp\;It will be followed up with a short Q&amp\;A session.</span></span><br />\n<br />\n<span style="font-size: 14px\;"><strong><span style="background: white\;"><span style="color: rgb(51\, 51\, 51)\;"><span style="font-family: arial\,sans-serif\;">Registration is required to accommodate our host. The cost is $10 and includes breakfast.&nbsp\;</span></span></span></strong><br style="word-spacing: 0px\; orphans: 2\; widows: 2\; font-variant-ligatures: normal\; font-variant-caps: normal\; -webkit-text-stroke-width: 0px\; text-decoration-style: initial\;" />\n<span style="color: rgb(51\, 51\, 51)\;"><span style="font-family: arial\,sans-serif\;"><span style="word-spacing: 0px\; orphans: 2\; widows: 2\; font-variant-ligatures: normal\; font-variant-caps: normal\; -webkit-text-stroke-width: 0px\; text-decoration-style: initial\;">&nbsp\;<br />\nMembership Meetings are intended to increase awareness of what is happening in the business community. Whether a dynamic speaker\, an educational workshop or a true networking event\, Membership Meetings are long-standing traditions in serving as an informational platform for the business community. And\, to add to the excitement &hellip\; breakfast will be served to get the morning started off right.</span></span></span></span><br />\n<br />\n<span style="font-size: 14px\;"><span style="font-family: arial\;">&nbsp\;</span></span><br />\n&nbsp\;
LOCATION:The Penguin Diner 105 Garfield Parkway Bethany Beach\, DE 19930
UID:e.2126.20154
SEQUENCE:3
DTSTAMP:20260425T225751Z
URL:http://business.thequietresorts.com/events/details/canceled-membership-meeting-april-2020-sussex-county-insights-20154
END:VEVENT

END:VCALENDAR
