BEGIN:VCALENDAR
VERSION:2.0
PRODID:-//ChamberMaster//Event Calendar 2.0//EN
METHOD:PUBLISH
X-PUBLISHED-TTL:P3D
REFRESH-INTERVAL:P3D
CALSCALE:GREGORIAN
BEGIN:VEVENT
DTSTART:20200414T120000Z
DTEND:20200414T140000Z
X-MICROSOFT-CDO-ALLDAYEVENT:FALSE
SUMMARY:CANCELED - Connect for Coffee: April 2020 - M & T Bank Millville
DESCRIPTION:THIS EVENT HAS BEEN CANCELED\n\n\n\nDon't miss the April 2020 Connect for Coffee at M&T Bank Millville!  Chamber and community members alike are invited to join for a morning of networking. Whether you have five minutes or two hours in your schedule\, drop in\, have a cup of coffee and start your morning growing your connections.This event is FREE and open to the public\, so bring a friend! RSVP is not required.
X-ALT-DESC;FMTTYPE=text/html:<span style="font-family: century gothic\,sans-serif\;"><span style="font-size: 14px\;"><span style="font-family: arial\;"><strong><span style="color:#FF0000\;">THIS EVENT HAS BEEN CANCELED</span></strong></span></span></span><br />\n<br />\n<span><span style="font-family: century gothic\,sans-serif\;"><span style="font-size: 14px\;"><span style="font-family: arial\;">Don&#39\;t miss the April 2020 Connect for Coffee </span></span></span></span><span><span style="font-family: century gothic\,sans-serif\;"><span style="font-size: 14px\;"><span style="font-family: arial\;">at M&amp\;T Bank Millville!&nbsp\; Chamber and community members alike are invited to join for a morning of networking.&nbsp\;</span></span></span></span><span><span style="font-family: century gothic\,sans-serif\;"><span style="font-size: 14px\;"><span style="font-family: arial\;">Whether you have five minutes or two hours in your schedule\, drop in\, have a cup of coffee&nbsp\;and start your morning growing your connections.<strong>This event is FREE and open to the public\, so bring a friend!</strong>&nbsp\;RSVP is not required.</span></span></span></span>
LOCATION:M & T Bank 38015 Town Center Drive Millville\, DE 19967
UID:e.2126.19681
SEQUENCE:3
DTSTAMP:20260425T212553Z
URL:http://business.thequietresorts.com/events/details/canceled-connect-for-coffee-april-2020-m-t-bank-millville-19681
END:VEVENT

END:VCALENDAR
