BEGIN:VCALENDAR
VERSION:2.0
PRODID:-//ChamberMaster//Event Calendar 2.0//EN
METHOD:PUBLISH
X-PUBLISHED-TTL:P3D
REFRESH-INTERVAL:P3D
CALSCALE:GREGORIAN
BEGIN:VEVENT
DTSTART:20200404T150000Z
DTEND:20200404T190000Z
X-MICROSOFT-CDO-ALLDAYEVENT:FALSE
SUMMARY:CANCELED -Beebe Hospital South Coastal Emergency Department Ribbon Cutting & Open House
DESCRIPTION:THIS EVENT HAS BEEN CANCELED.\n\n\n\nJoin Beebe Healthcare for an Open House and Ribbon Cutting at the New South Coastal Emergency Department!
X-ALT-DESC;FMTTYPE=text/html:<strong><em><span style="color:#FF0000\;">THIS EVENT HAS BEEN CANCELED.</span></em></strong><br />\n<br />\nJoin Beebe Healthcare for an Open House and Ribbon Cutting at the New South Coastal Emergency Department!
LOCATION:32750 Roxana Rd Frankford\, DE 19945
UID:e.2126.20279
SEQUENCE:3
DTSTAMP:20260425T225751Z
URL:http://business.thequietresorts.com/events/details/canceled-beebe-hospital-south-coastal-emergency-department-ribbon-cutting-open-house-20279
END:VEVENT

END:VCALENDAR
