BEGIN:VCALENDAR
VERSION:2.0
PRODID:-//ChamberMaster//Event Calendar 2.0//EN
METHOD:PUBLISH
X-PUBLISHED-TTL:P3D
REFRESH-INTERVAL:P3D
CALSCALE:GREGORIAN
BEGIN:VEVENT
DTSTART;VALUE=DATE:20240618
DTEND;VALUE=DATE:20240619
TRANSP:TRANSPARENT
X-MICROSOFT-CDO-ALLDAYEVENT:TRUE
SUMMARY:Camp New Hope Summer Camp for Kids
DESCRIPTION:Camp New Hope 2024 Dates:\n\nNorth Camp: Lums Pond State Park   June 18\, 2024   June 21\, 2024\n\nSouth Camp: Killens Pond State Park   June 25\, 2024   June 28\, 2024\n\nCamp New Hope is a four-day summer day camp for children and teens ages 6-17 who are coping with the loss of a loved one.\nBesides offering traditional camp activities such as crafts\, water games\, and sports\, Camp New Hope gives children the chance to work through their grief and loss with their peers. Thanks to generous supporters\, we are able to offer Camp New Hope free of charge\, including lunch and snacks.\n\n\n\nClick here to register.
X-ALT-DESC;FMTTYPE=text/html:<h2 class="text-blue" style="box-sizing: border-box\; font-family: &quot\;roboto slab&quot\;\, serif\; font-weight: 700\; line-height: 60px\; color: rgb(7\, 54\, 116)\; margin: 0px 0px 25px\; font-size: 52px\; text-align: center\; background-color: rgb(186\, 204\, 233)\;">Camp New Hope 2024 Dates:</h2>\n\n<h4 class="x_MsoNormal" style="box-sizing: border-box\; font-family: &quot\;open sans&quot\;\, sans-serif\; font-weight: 700\; line-height: 32px\; color: rgb(65\, 64\, 66)\; margin: 0px 0px 25px\; font-size: 24px\; text-align: center\; background-color: rgb(186\, 204\, 233)\;">North Camp: Lums Pond State Park &ndash\; June 18\, 2024 &ndash\; June 21\, 2024</h4>\n\n<h4 class="x_MsoNormal" style="box-sizing: border-box\; font-family: &quot\;open sans&quot\;\, sans-serif\; font-weight: 700\; line-height: 32px\; color: rgb(65\, 64\, 66)\; margin: 0px 0px 25px\; font-size: 24px\; text-align: center\; background-color: rgb(186\, 204\, 233)\;">South Camp: Killens Pond State Park &ndash\; June 25\, 2024 &ndash\; June 28\, 2024</h4>\n\n<h6 style="box-sizing: border-box\; font-family: &quot\;open sans&quot\;\, sans-serif\; font-weight: 700\; line-height: 25px\; color: rgb(65\, 64\, 66)\; margin: 0px 0px 25px\; font-size: 17px\;">Camp New Hope is a four-day summer day camp for children and teens ages 6-17 who are coping with the loss of a loved one.</h6>\n<span style="color: rgb(65\, 64\, 66)\; font-family: &quot\;open sans&quot\;\, sans-serif\; font-size: 15px\;">Besides offering traditional camp activities such as crafts\, water games\, and sports\, Camp New Hope gives children the chance to work through their grief and loss with their peers. Thanks to generous supporters\, we are able to offer Camp New Hope free of charge\, including lunch and snacks.</span><br />\n<br />\nClick <a href="https://delawarehospice.org/programs/camp-new-hope/">here</a> to register.
LOCATION:June 18-21st Lums Pond State Park 1068 Howell school Rd. Bear\, DE 19701 June 25-28th Killens Pond State Park 5025 Killens Pond Rd. Felton\, DE 19943
UID:e.2126.29924
SEQUENCE:3
DTSTAMP:20260420T092338Z
URL:http://business.thequietresorts.com/events/details/camp-new-hope-summer-camp-for-kids-29924
END:VEVENT

END:VCALENDAR
