BEGIN:VCALENDAR
VERSION:2.0
PRODID:-//ChamberMaster//Event Calendar 2.0//EN
METHOD:PUBLISH
X-PUBLISHED-TTL:P3D
REFRESH-INTERVAL:P3D
CALSCALE:GREGORIAN
BEGIN:VEVENT
DTSTART:20230715T230000Z
DTEND:20230716T020000Z
X-MICROSOFT-CDO-ALLDAYEVENT:FALSE
SUMMARY:Calpulli Mexican Dance Company
DESCRIPTION:ADMISSION: FREE\n\nAn Educational Journey to "Puebla: The Story of Cinco de Mayo" tells a universal tale of the underdog fighting impossible odds designed specifically for students and teachers. The setting is the Battle of Puebla when a small army of Mexican soldiers and commoners defeated the French army\, the strongest military force of the time\, on the 5th of May (Cinco de Mayo)\, 1862. Through folkloric and contemporary dance\, live music and elaborate costuming\, Calpulli elaborates on the history of the now-famous date and celebrates the culture and people of Puebla.
X-ALT-DESC;FMTTYPE=text/html:<h6>ADMISSION: FREE</h6>\n\n<p>An Educational Journey to &ldquo\;Puebla: The Story of Cinco de Mayo&quot\; tells a universal tale of the underdog fighting impossible odds designed specifically for students and teachers. The setting is the Battle of Puebla when a small army of Mexican soldiers and commoners defeated the French army\, the strongest military force of the time\, on the 5th of May (Cinco de Mayo)\, 1862. Through folkloric and contemporary dance\, live music and elaborate costuming\, Calpulli elaborates on the history of the now-famous date and celebrates the culture and people of Puebla.</p>\n
LOCATION:Freeman Arts Pavilion a program of the Joshua M. Freeman Foundation is a champion of the arts on Delmarva\, providing diverse arts performances as well as arts access programs for local schools and the community at large. From June-September the Freeman Arts Pavilion is an open-air performance space showcasing music\, dance\, comedy\, theater\, children's programs\, and free events.
UID:e.2126.26099
SEQUENCE:3
DTSTAMP:20260420T225935Z
URL:http://business.thequietresorts.com/events/details/calpulli-mexican-dance-company-26099
END:VEVENT

END:VCALENDAR
