BEGIN:VCALENDAR
VERSION:2.0
PRODID:-//ChamberMaster//Event Calendar 2.0//EN
METHOD:PUBLISH
X-PUBLISHED-TTL:P3D
REFRESH-INTERVAL:P3D
CALSCALE:GREGORIAN
BEGIN:VEVENT
DTSTART;VALUE=DATE:20200828
DTEND;VALUE=DATE:20200908
TRANSP:TRANSPARENT
X-MICROSOFT-CDO-ALLDAYEVENT:TRUE
SUMMARY:Call For Entries: “VISION” Juried Group Show
DESCRIPTION:Featuring all female artists. Enter here: https://artleagueofoceancity.org/artwork-online-entry/\n\nThis show focuses on the RISE\, GROWTH and PROGRESS of women during the last 100 years. Artwork should reflect the every day life and challenges of women\, the self discovery\, the victories\, the defeats\, the mundane and the extravagant. This is an opportunity to celebrate our UNITY\, STRENGTH\, and VISION for the future. Artists may enter up to two pieces of original artwork for consideration: all media\, 2D and 3D. Female artists only.\n\nExhibit juror: Deborah Rolig.\n\nDeadline for online entry: Monday Sept 7\, 4pm.\n\n**Artists will be notified by email of acceptance. Accepted works will be displayed in-person at the OC Center for the Arts through the month of October.\n\nDates for hand-delivery of accepted work: Sunday Sept 27-Monday Sept 28\, by appointment. Please see below for shipping information.\n\nExhibit dates: Sept 29-Oct 31\, 2020.\n\nEntry fee: $10 for members/ $15 for non-members per piece. Non-refundable.\n\nPrizes awarded for first place: $150\, second place: $100\, third place: $75\, and 3 honorable mentions.\n\nEligibility: Artists must be 18 years or older and may submit up to two pieces of original artwork for consideration. Artwork must be created in the past three years\, relevant to the theme\, and never before shown at an ALOC judged show. All hanging artwork must be securely framed and properly wired for hanging. The maximum outside frame dimensions may not exceed 36 x48 .\n\nShipping: Accepted artists are responsible for hand-delivering or shipping their work to and from the ALOC and insuring it while in transit. Shipped entries must be securely packed (no styrofoam peanuts) and sent in substantial reusable containers. Pieces must be received by Monday Sept 28.\n\nShip Selected Work To: Art League of Ocean City\, 502 94th St\, Ocean City MD 21842.\n\nReturn Shipping: Artists must provide a pre-paid return shipping label for the return of unsold items. Artwork left with the gallery more than 30 days after the close of the exhibition without return arrangements will be deemed abandoned and become the property of the ALOC.\n\nSales: The ALOC receives a commission of thirty percent (30%) of the sale price of artwork and all sales of artwork exhibited must be processed through the ALOC. If the sale price was discounted through an ALOC member purchase discount\, the artist will still receive 70% compensation as a percentage of the asking price. Payment will be made by check to the artist by the end of the month following the exhibit.
X-ALT-DESC;FMTTYPE=text/html:<p><span style="font-size: 14px\;"><span style="font-family: arial\;">Featuring&nbsp\;<strong>all female artists. Enter here:&nbsp\;</strong><a href="https://artleagueofoceancity.org/artwork-online-entry/">https://artleagueofoceancity.org/artwork-online-entry/</a></span></span></p>\n\n<p><span style="font-size: 14px\;"><span style="font-family: arial\;">This show focuses on the RISE\, GROWTH and PROGRESS of women during the last 100 years. Artwork should reflect the every day life and challenges of women\, the self discovery\, the victories\, the defeats\, the mundane and the extravagant. This is an opportunity to celebrate our UNITY\, STRENGTH\, and VISION for the future.&nbsp\;Artists may enter up to two pieces of original artwork for consideration: all media\, 2D and 3D. Female artists only.</span></span></p>\n\n<p><span style="font-size: 14px\;"><span style="font-family: arial\;"><strong>Exhibit juror</strong>: Deborah Rolig.</span></span></p>\n\n<p><span style="font-size: 14px\;"><span style="font-family: arial\;"><span style="color: rgb(255\, 0\, 0)\;"><strong>Deadline for online entry</strong>:<span style="color: rgb(0\, 0\, 0)\;">&nbsp\;Monday Sept 7\, 4pm.</span></span><br />\n**Artists will be notified by email of acceptance. Accepted works will be displayed in-person at the OC Center for the Arts through the month of October.</span></span></p>\n\n<p><span style="font-size: 14px\;"><span style="font-family: arial\;"><strong>Dates for hand-delivery of accepted work:&nbsp\;</strong>Sunday Sept 27-Monday Sept 28\, by appointment. Please see below for shipping information.</span></span></p>\n\n<p><span style="font-size: 14px\;"><span style="font-family: arial\;"><strong>Exhibit dates</strong>: Sept 29-Oct 31\, 2020.</span></span></p>\n\n<p><span style="font-size: 14px\;"><span style="font-family: arial\;"><strong>Entry fee</strong>: $10 for members/ $15 for non-members per piece. Non-refundable.</span></span></p>\n\n<p><span style="font-size: 14px\;"><span style="font-family: arial\;"><strong>Prizes</strong>&nbsp\;awarded for first place: $150\, second place: $100\, third place: $75\, and 3 honorable mentions.</span></span></p>\n\n<p><span style="font-size: 14px\;"><span style="font-family: arial\;"><strong>Eligibility</strong>: Artists must be 18 years or older and may submit up to two pieces of original artwork for consideration. Artwork must be created in the past three years\, relevant to the theme\, and never before shown at an ALOC judged show. All hanging artwork must be securely framed and properly wired for hanging. The maximum outside frame dimensions may not exceed 36&Prime\;x48&Prime\;.</span></span></p>\n\n<p><span style="font-size: 14px\;"><span style="font-family: arial\;"><strong>Shipping</strong>: Accepted artists are responsible for hand-delivering or shipping their work to and from the ALOC and insuring it while in transit. Shipped entries must be securely packed (no styrofoam peanuts) and sent in substantial reusable containers. Pieces must be received by Monday Sept 28.</span></span></p>\n\n<p><span style="font-size: 14px\;"><span style="font-family: arial\;">Ship Selected Work To: Art League of Ocean City\, 502 94th St\, Ocean City MD 21842.</span></span></p>\n\n<p><span style="font-size: 14px\;"><span style="font-family: arial\;">Return Shipping: Artists must provide a pre-paid return shipping label for the return of unsold items. Artwork left with the gallery more than 30 days after the close of the exhibition without return arrangements will be deemed abandoned and become the property of the ALOC.</span></span></p>\n\n<p><span style="font-size: 14px\;"><span style="font-family: arial\;"><strong>Sales:&nbsp\;</strong>The ALOC receives a commission of thirty percent (30%) of the sale price of artwork and all sales of artwork exhibited must be processed through the ALOC. If the sale price was discounted through an ALOC member purchase discount\, the artist will still receive 70% compensation as a percentage of the asking price. Payment will be made by check to the artist by the end of the month following the exhibit.</span></span></p>\n
LOCATION:Art League of Ocean City 502 94th Street Ocean City\, MD 21842
UID:e.2126.21752
SEQUENCE:3
DTSTAMP:20260425T131152Z
URL:http://business.thequietresorts.com/events/details/call-for-entries-vision-juried-group-show-21752
END:VEVENT

END:VCALENDAR
