BEGIN:VCALENDAR
VERSION:2.0
PRODID:-//ChamberMaster//Event Calendar 2.0//EN
METHOD:PUBLISH
X-PUBLISHED-TTL:P3D
REFRESH-INTERVAL:P3D
CALSCALE:GREGORIAN
BEGIN:VEVENT
DTSTART:20240625T150000Z
DTEND:20240625T170000Z
X-MICROSOFT-CDO-ALLDAYEVENT:FALSE
SUMMARY:Cake Decorating Class at DiFebo's
DESCRIPTION:The Cake decorating class provides creative techniques and tips for cake artistry\, culminating in a delightful session with Champagne. Design your very own 8" Cake & 3 Cupcakes!
X-ALT-DESC;FMTTYPE=text/html:<span style="color:rgb(111\, 114\, 135)\; font-family:neue plak\,-apple-system\,system-ui\,roboto\,helvetica neue\,helvetica\,tahoma\,arial\,sans-serif\; font-size:16px">The Cake decorating class provides creative techniques and tips for cake artistry\, culminating in a delightful session with Champagne. Design your very own 8&quot\; Cake &amp\; 3 Cupcakes!</span>
LOCATION:DiFebo's Bethany Restaurant 789 Garfield Parkway Bethany Beach\, DE 19930
UID:e.2126.30263
SEQUENCE:3
DTSTAMP:20260420T090533Z
URL:http://business.thequietresorts.com/events/details/cake-decorating-class-at-difebo-s-30263
END:VEVENT

END:VCALENDAR
