BEGIN:VCALENDAR
VERSION:2.0
PRODID:-//ChamberMaster//Event Calendar 2.0//EN
METHOD:PUBLISH
X-PUBLISHED-TTL:P3D
REFRESH-INTERVAL:P3D
CALSCALE:GREGORIAN
BEGIN:VEVENT
DTSTART:20230505T170000Z
DTEND:20230505T190000Z
X-MICROSOFT-CDO-ALLDAYEVENT:FALSE
SUMMARY:BWS Job Fair
DESCRIPTION:We are hosting a Job Fair and hiring for the following positions both full time or part time. Cashiers\, and Stock Associates. Responsibilities include maintaining the retail aisles\, stocking and rotating product\, managing\n\nstock in the back storage areas\, and providing quality customer service. Night and weekend availability is required\, including Sundays. Benefits include Health\, Dental\, & Vision Insurance\,PTO\,401(k)\,and employee discounts. Banks Wines & Spirits is a smoke-free environment.
X-ALT-DESC;FMTTYPE=text/html:<span style="background-color:rgb(255\, 255\, 255)\; color:rgb(34\, 34\, 34)\; font-family:arial\,helvetica\,sans-serif\; font-size:small">We are hosting a Job Fair and hiring for the following positions both full time or part time. Cashiers\, and Stock Associates. Responsibilities&nbsp\;</span><span style="background-color:rgb(255\, 255\, 255)\; color:rgb(34\, 34\, 34)\; font-family:arial\,helvetica\,sans-serif\; font-size:small">include maintaining the retail aisles\, stocking and rotating product\, managing</span><br />\n<span style="background-color:rgb(255\, 255\, 255)\; color:rgb(34\, 34\, 34)\; font-family:arial\,helvetica\,sans-serif\; font-size:small">stock in the back storage areas\, and providing quality customer service.&nbsp\;</span><span style="background-color:rgb(255\, 255\, 255)\; color:rgb(34\, 34\, 34)\; font-family:arial\,helvetica\,sans-serif\; font-size:small">Night and weekend availability is required\, including Sundays.&nbsp\;</span><span style="background-color:rgb(255\, 255\, 255)\; color:rgb(34\, 34\, 34)\; font-family:arial\,helvetica\,sans-serif\; font-size:small">Benefits include Health\, Dental\, &amp\; Vision Insurance\,PTO\,401(k)\,and&nbsp\;</span><span style="background-color:rgb(255\, 255\, 255)\; color:rgb(34\, 34\, 34)\; font-family:arial\,helvetica\,sans-serif\; font-size:small">employee discounts. Banks Wines &amp\; Spirits is a smoke-free environment.</span>
LOCATION:Banks Wines and Spirits
UID:e.2126.25356
SEQUENCE:3
DTSTAMP:20260421T040654Z
URL:http://business.thequietresorts.com/events/details/bws-job-fair-05-05-2023-25356
END:VEVENT

END:VCALENDAR
